BEGIN:VCALENDAR
VERSION:2.0
PRODID:-//Dubuque Museum of Art - ECPv6.15.20//NONSGML v1.0//EN
CALSCALE:GREGORIAN
METHOD:PUBLISH
X-ORIGINAL-URL:https://archive.dbqart.org
X-WR-CALDESC:Events for Dubuque Museum of Art
REFRESH-INTERVAL;VALUE=DURATION:PT1H
X-Robots-Tag:noindex
X-PUBLISHED-TTL:PT1H
BEGIN:VTIMEZONE
TZID:America/Chicago
BEGIN:DAYLIGHT
TZOFFSETFROM:-0600
TZOFFSETTO:-0500
TZNAME:CDT
DTSTART:20220313T080000
END:DAYLIGHT
BEGIN:STANDARD
TZOFFSETFROM:-0500
TZOFFSETTO:-0600
TZNAME:CST
DTSTART:20221106T070000
END:STANDARD
BEGIN:DAYLIGHT
TZOFFSETFROM:-0600
TZOFFSETTO:-0500
TZNAME:CDT
DTSTART:20230312T080000
END:DAYLIGHT
BEGIN:STANDARD
TZOFFSETFROM:-0500
TZOFFSETTO:-0600
TZNAME:CST
DTSTART:20231105T070000
END:STANDARD
BEGIN:DAYLIGHT
TZOFFSETFROM:-0600
TZOFFSETTO:-0500
TZNAME:CDT
DTSTART:20240310T080000
END:DAYLIGHT
BEGIN:STANDARD
TZOFFSETFROM:-0500
TZOFFSETTO:-0600
TZNAME:CST
DTSTART:20241103T070000
END:STANDARD
BEGIN:DAYLIGHT
TZOFFSETFROM:-0600
TZOFFSETTO:-0500
TZNAME:CDT
DTSTART:20250309T080000
END:DAYLIGHT
BEGIN:STANDARD
TZOFFSETFROM:-0500
TZOFFSETTO:-0600
TZNAME:CST
DTSTART:20251102T070000
END:STANDARD
BEGIN:DAYLIGHT
TZOFFSETFROM:-0600
TZOFFSETTO:-0500
TZNAME:CDT
DTSTART:20260308T080000
END:DAYLIGHT
BEGIN:STANDARD
TZOFFSETFROM:-0500
TZOFFSETTO:-0600
TZNAME:CST
DTSTART:20261101T070000
END:STANDARD
END:VTIMEZONE
BEGIN:VEVENT
DTSTART;TZID=America/Chicago:20250410T163000
DTEND;TZID=America/Chicago:20250410T183000
DTSTAMP:20260421T185025
CREATED:20250214T200207Z
LAST-MODIFIED:20250326T220301Z
UID:17203-1744302600-1744309800@archive.dbqart.org
SUMMARY:HIGH SCHOOL OPENING CELEBRATION
DESCRIPTION:Our high school artists take centerstage in our second exhibition of artwork by Dubuque’s youth. \nSwing by to celebrate their accomplishments and toast the future of art in our area.
URL:https://archive.dbqart.org/event/high-school-opening-celebration/
LOCATION:Dubuque Museum of Art\, 701 Locust St.\, Dubuque\, IA\, 52001\, United States
CATEGORIES:exhibition opening,Free with admission
END:VEVENT
BEGIN:VEVENT
DTSTART;TZID=America/Chicago:20250304T163000
DTEND;TZID=America/Chicago:20250304T183000
DTSTAMP:20260421T185025
CREATED:20250214T200500Z
LAST-MODIFIED:20250228T001011Z
UID:17205-1741105800-1741113000@archive.dbqart.org
SUMMARY:K–8 OPENING CELEBRATION
DESCRIPTION:In March we’ll be opening our exhibition of Dubuque’s youngest creatives with a reception for the city’s elementary school children and their artwork.
URL:https://archive.dbqart.org/event/k-8-opening-celebration/
LOCATION:Dubuque Museum of Art\, 701 Locust St.\, Dubuque\, IA\, 52001\, United States
CATEGORIES:exhibition opening,Family friendly,Free with admission
END:VEVENT
BEGIN:VEVENT
DTSTART;TZID=America/Chicago:20250209T100000
DTEND;TZID=America/Chicago:20250209T143000
DTSTAMP:20260421T185025
CREATED:20250128T010152Z
LAST-MODIFIED:20250128T010152Z
UID:17149-1739095200-1739111400@archive.dbqart.org
SUMMARY:Youth Design Workshop
DESCRIPTION:Youth ages 8-14 are invited to participate in a hands-on design workshop with Nate Trevethan\, DuMA’s landscape architect and principal at Michael Van Valkenburgh Associates. Participants will collaborate as a group with Nate to develop designs that will be incorporated into the gardens of the new Museum Campus opening in 2027. \nProjects Nate has worked on for MVVA include Brooklyn Bridge Park\, Ralph C. Wilson\, Jr. Centennial Park in Detroit\, and Pennsylvania Avenue at the White House. Nate received a Master of Landscape Architecture from Harvard University’s Graduate School of Design and earned a Bachelor of Arts in Landscape Architecture from Michigan State University. \n10AM for ages 8-10\n1PM for ages 11-14\nSession is expected to last 90 minutes \n$5 materials fee. Space is limited. \nRegister:\n8 – 10\nhttps://square.link/u/SevV3l8F\n11 – 14\nhttps://square.link/u/l2ciIlvl
URL:https://archive.dbqart.org/event/youth-design-workshop/
LOCATION:Dubuque Museum of Art\, 701 Locust St.\, Dubuque\, IA\, 52001\, United States
CATEGORIES:Education,Events,Family friendly,Free with admission,Registration required,Winter Arts
END:VEVENT
BEGIN:VEVENT
DTSTART;TZID=America/Chicago:20241102T100000
DTEND;TZID=America/Chicago:20241102T190000
DTSTAMP:20260421T185025
CREATED:20241011T203106Z
LAST-MODIFIED:20241030T201935Z
UID:16877-1730541600-1730574000@archive.dbqart.org
SUMMARY:Dubuque by Design Opening Celebration
DESCRIPTION:Celebrate 150 creative years with free family fashion and design activities\, conversations with artists\, and local brews\, bites\, and music inspired by our exhibitions this season. \nFamily Celebration\n10 am–1 pm\nFree with Museum admission \nFamily fashion and design workshops kick off our Opening Day. In the morning\, families are invited to collaborate and design fashions inspired by Dubuque icons\, from Lange ski boots to H. B. Glover pajamas (immortalized by Richard Bissell on stage and screen as The Pajama Game). Design your own Dubuque factory\, Millwork building\, or new museum\, all to help us create the city of the future. For those who need a little more of a prompt\, collaborate with baristas from Bob and Lou’s to design a new custom coffee drink. \nFill Your Factory! \nGrab a piece of folded paper\nOn 1 side design the outside of your factory.\nYou can include doors\, big vents\, billboards and advertisements.\nThen Flip it over and show what’s happening on the Inside of your factory.\nWhat does your factory build? Do people make your product or do machines? How does your factory run?\nTry practicing collage techniques by using magazines\, cut out shapes\, and colorful paper to bring your factory to life.\nWhen you’re all done you can add your factory to the art museums tiny factory district. \nChair Challenge! \nImagine creating a one-of-a-kind chair\, designed totally by you! Use recycled materials and your imagination to make a unique functional chair.\nWhen designing your furniture try to think about who is sitting in your chair. A toddler? Maybe a astronaut? What about a cat or a dog? Furniture is designed for people to sit in. Thinking about who will use your chair is important to make them comfortable.\nTry to think about what it’s made of. Is it strong? Or is it meant to be soft and comfy\, What about lightweight for east traveling?\nEach chair has a job. Thinking about what job your chair does will make a successful design! Get creative and make something amazing!\nYou can even take it home for your toys to sit in and then post a pic on our Facebook page! \nArtist Conversation\n3 pm–4 pm\nFree with Museum admission \nJoin artist Hieyler Pimpton inside the Kris Mozena McNamer gallery for a conversation about her exhibition I Have Told You 50 Times. She’ll talk about her artistic inspirations and her journey to create the 50 collages on view. You’ll appreciate her warmth and humor—and we don’t expect she’ll have to repeat herself. \nOpening Reception\n4 pm–7 pm \n$15 for members of DuMA\n$20 for guests\n$10 for guests under 21\nFree for 1874 society \nToast the past and the future with local craft beers\, music\, mocktails\, and food inspired by Dubuque by Design. \nRegistration required for the 4 pm reception. Click here to purchase tickets.
URL:https://archive.dbqart.org/event/dubuque-by-design-opening-celebration/
LOCATION:Dubuque Museum of Art\, 701 Locust St.\, Dubuque\, IA\, 52001\, United States
CATEGORIES:Community Day,Events,exhibition opening,Family friendly,Free with admission,Gallery Talk,Registration required
END:VEVENT
BEGIN:VEVENT
DTSTART;TZID=America/Chicago:20240224T160000
DTEND;TZID=America/Chicago:20240224T170000
DTSTAMP:20260421T185025
CREATED:20240209T231800Z
LAST-MODIFIED:20240209T232247Z
UID:16203-1708790400-1708794000@archive.dbqart.org
SUMMARY:ARTIST TALK AND OPENING RECEPTION DRIFT: RECENT WORKS BY E. E. KONO
DESCRIPTION:Dubuque artist E. E. Kono discusses the work in her solo exhibition\, Drift: Recent Works by E. E. Kono\, with a reception to follow. Kono shares how landscape\, history\, and myth inform her approach to creating new work using traditional techniques like egg tempera and silverpoint. Reception to follow in the lobby. \nFree with Museum admission
URL:https://archive.dbqart.org/event/artist-talk-and-opening-reception-drift-recent-works-by-e-e-kono/
LOCATION:Dubuque Museum of Art\, 701 Locust St.\, Dubuque\, IA\, 52001\, United States
CATEGORIES:Events,exhibition opening,Free with admission,Gallery Talk
ORGANIZER;CN="Dubuque Museum of Art":MAILTO:info@dbqart.org
END:VEVENT
BEGIN:VEVENT
DTSTART;TZID=America/Chicago:20240224T100000
DTEND;TZID=America/Chicago:20240224T130000
DTSTAMP:20260421T185025
CREATED:20240209T223743Z
LAST-MODIFIED:20240220T215637Z
UID:16198-1708768800-1708779600@archive.dbqart.org
SUMMARY:FAMILY CELEBRATION: PICTURING AMERICA’S PASTIME
DESCRIPTION:Families and fans of all ages are invited to celebrate the opening of Picturing America’s Pastime: A Snapshot of the Photograph Collection at the National Baseball Hall of Fame and Museum. Sample a ballpark frank from Hot Diggity Dogz\, design your family’s baseball cap sponsored by 1-800-Tshirts.com\, and tour the exhibitions. \nFree with Museum admission. \nWe would appreciate a RSVP response if you are planning on attending via this online form.\n \n“Ty Cobb slides into third base”by Charles M. Conlon\, July 23\, 1910Courtesy of the National Baseball Hall of Fame and Museum
URL:https://archive.dbqart.org/event/family-celebration-picturing-americas-pastime/
LOCATION:Dubuque Museum of Art\, 701 Locust St.\, Dubuque\, IA\, 52001\, United States
CATEGORIES:Community Day,Events,exhibition opening,Free with admission
ORGANIZER;CN="Dubuque Museum of Art":MAILTO:info@dbqart.org
END:VEVENT
BEGIN:VEVENT
DTSTART;TZID=America/Chicago:20231118T133000
DTEND;TZID=America/Chicago:20231118T160000
DTSTAMP:20260421T185025
CREATED:20231018T225344Z
LAST-MODIFIED:20231018T225605Z
UID:15853-1700314200-1700323200@archive.dbqart.org
SUMMARY:Meet the Artists: Arthur Geisert and the Dubuque Camera Club
DESCRIPTION:At 1:30 P.M.\, Award-winning artist and author Arthur Geisert will discuss the making of his book Country Road ABC: An Illustrated Journey through America’s Farmland\, a refreshingly realistic view of contemporary rural life in eastern Iowa. \nAt 2:30 P.M.\, Dubuque Camera Club members will discuss the 2023 iteration of their annual photography exhibit\, Rural Midwest. Members will talk about their experiences and the personal stories behind their work. \nFree with regular Museum admission.
URL:https://archive.dbqart.org/event/meet-the-artists-arthur-geisert-and-the-dubuque-camera-club/
LOCATION:IA
CATEGORIES:Free with admission,Gallery Talk
END:VEVENT
BEGIN:VEVENT
DTSTART;TZID=America/Chicago:20230624T133000
DTEND;TZID=America/Chicago:20230624T143000
DTSTAMP:20260421T185025
CREATED:20230607T211933Z
LAST-MODIFIED:20230607T211933Z
UID:14789-1687613400-1687617000@archive.dbqart.org
SUMMARY:ARTIST TALK: Rachel Deutmeyer
DESCRIPTION:Photographer Rachel Deutmeyer offers her thoughts on her exhibition Everything Fades and what it means for a Biennial artist to have a solo show. \nFree with admission
URL:https://archive.dbqart.org/event/artist-talk-rachel-deutmeyer/
LOCATION:Dubuque Museum of Art\, 701 Locust St.\, Dubuque\, IA\, 52001\, United States
CATEGORIES:Free with admission,Gallery Talk
END:VEVENT
END:VCALENDAR