BEGIN:VCALENDAR
VERSION:2.0
PRODID:-//Dubuque Museum of Art - ECPv6.15.20//NONSGML v1.0//EN
CALSCALE:GREGORIAN
METHOD:PUBLISH
X-WR-CALNAME:Dubuque Museum of Art
X-ORIGINAL-URL:https://archive.dbqart.org
X-WR-CALDESC:Events for Dubuque Museum of Art
REFRESH-INTERVAL;VALUE=DURATION:PT1H
X-Robots-Tag:noindex
X-PUBLISHED-TTL:PT1H
BEGIN:VTIMEZONE
TZID:America/Chicago
BEGIN:DAYLIGHT
TZOFFSETFROM:-0600
TZOFFSETTO:-0500
TZNAME:CDT
DTSTART:20170312T080000
END:DAYLIGHT
BEGIN:STANDARD
TZOFFSETFROM:-0500
TZOFFSETTO:-0600
TZNAME:CST
DTSTART:20171105T070000
END:STANDARD
BEGIN:DAYLIGHT
TZOFFSETFROM:-0600
TZOFFSETTO:-0500
TZNAME:CDT
DTSTART:20180311T080000
END:DAYLIGHT
BEGIN:STANDARD
TZOFFSETFROM:-0500
TZOFFSETTO:-0600
TZNAME:CST
DTSTART:20181104T070000
END:STANDARD
BEGIN:DAYLIGHT
TZOFFSETFROM:-0600
TZOFFSETTO:-0500
TZNAME:CDT
DTSTART:20190310T080000
END:DAYLIGHT
BEGIN:STANDARD
TZOFFSETFROM:-0500
TZOFFSETTO:-0600
TZNAME:CST
DTSTART:20191103T070000
END:STANDARD
BEGIN:DAYLIGHT
TZOFFSETFROM:-0600
TZOFFSETTO:-0500
TZNAME:CDT
DTSTART:20200308T080000
END:DAYLIGHT
BEGIN:STANDARD
TZOFFSETFROM:-0500
TZOFFSETTO:-0600
TZNAME:CST
DTSTART:20201101T070000
END:STANDARD
BEGIN:DAYLIGHT
TZOFFSETFROM:-0600
TZOFFSETTO:-0500
TZNAME:CDT
DTSTART:20210314T080000
END:DAYLIGHT
BEGIN:STANDARD
TZOFFSETFROM:-0500
TZOFFSETTO:-0600
TZNAME:CST
DTSTART:20211107T070000
END:STANDARD
BEGIN:DAYLIGHT
TZOFFSETFROM:-0600
TZOFFSETTO:-0500
TZNAME:CDT
DTSTART:20220313T080000
END:DAYLIGHT
BEGIN:STANDARD
TZOFFSETFROM:-0500
TZOFFSETTO:-0600
TZNAME:CST
DTSTART:20221106T070000
END:STANDARD
BEGIN:DAYLIGHT
TZOFFSETFROM:-0600
TZOFFSETTO:-0500
TZNAME:CDT
DTSTART:20230312T080000
END:DAYLIGHT
BEGIN:STANDARD
TZOFFSETFROM:-0500
TZOFFSETTO:-0600
TZNAME:CST
DTSTART:20231105T070000
END:STANDARD
BEGIN:DAYLIGHT
TZOFFSETFROM:-0600
TZOFFSETTO:-0500
TZNAME:CDT
DTSTART:20240310T080000
END:DAYLIGHT
BEGIN:STANDARD
TZOFFSETFROM:-0500
TZOFFSETTO:-0600
TZNAME:CST
DTSTART:20241103T070000
END:STANDARD
BEGIN:DAYLIGHT
TZOFFSETFROM:-0600
TZOFFSETTO:-0500
TZNAME:CDT
DTSTART:20250309T080000
END:DAYLIGHT
BEGIN:STANDARD
TZOFFSETFROM:-0500
TZOFFSETTO:-0600
TZNAME:CST
DTSTART:20251102T070000
END:STANDARD
BEGIN:DAYLIGHT
TZOFFSETFROM:-0600
TZOFFSETTO:-0500
TZNAME:CDT
DTSTART:20260308T080000
END:DAYLIGHT
BEGIN:STANDARD
TZOFFSETFROM:-0500
TZOFFSETTO:-0600
TZNAME:CST
DTSTART:20261101T070000
END:STANDARD
END:VTIMEZONE
BEGIN:VTIMEZONE
TZID:America/Chicago
BEGIN:DAYLIGHT
TZOFFSETFROM:-0600
TZOFFSETTO:-0500
TZNAME:CDT
DTSTART:20130310T080000
END:DAYLIGHT
BEGIN:STANDARD
TZOFFSETFROM:-0500
TZOFFSETTO:-0600
TZNAME:CST
DTSTART:20131103T070000
END:STANDARD
BEGIN:DAYLIGHT
TZOFFSETFROM:-0600
TZOFFSETTO:-0500
TZNAME:CDT
DTSTART:20140309T080000
END:DAYLIGHT
BEGIN:STANDARD
TZOFFSETFROM:-0500
TZOFFSETTO:-0600
TZNAME:CST
DTSTART:20141102T070000
END:STANDARD
BEGIN:DAYLIGHT
TZOFFSETFROM:-0600
TZOFFSETTO:-0500
TZNAME:CDT
DTSTART:20150308T080000
END:DAYLIGHT
BEGIN:STANDARD
TZOFFSETFROM:-0500
TZOFFSETTO:-0600
TZNAME:CST
DTSTART:20151101T070000
END:STANDARD
BEGIN:DAYLIGHT
TZOFFSETFROM:-0600
TZOFFSETTO:-0500
TZNAME:CDT
DTSTART:20160313T080000
END:DAYLIGHT
BEGIN:STANDARD
TZOFFSETFROM:-0500
TZOFFSETTO:-0600
TZNAME:CST
DTSTART:20161106T070000
END:STANDARD
BEGIN:DAYLIGHT
TZOFFSETFROM:-0600
TZOFFSETTO:-0500
TZNAME:CDT
DTSTART:20170312T080000
END:DAYLIGHT
BEGIN:STANDARD
TZOFFSETFROM:-0500
TZOFFSETTO:-0600
TZNAME:CST
DTSTART:20171105T070000
END:STANDARD
BEGIN:DAYLIGHT
TZOFFSETFROM:-0600
TZOFFSETTO:-0500
TZNAME:CDT
DTSTART:20180311T080000
END:DAYLIGHT
BEGIN:STANDARD
TZOFFSETFROM:-0500
TZOFFSETTO:-0600
TZNAME:CST
DTSTART:20181104T070000
END:STANDARD
BEGIN:DAYLIGHT
TZOFFSETFROM:-0600
TZOFFSETTO:-0500
TZNAME:CDT
DTSTART:20190310T080000
END:DAYLIGHT
BEGIN:STANDARD
TZOFFSETFROM:-0500
TZOFFSETTO:-0600
TZNAME:CST
DTSTART:20191103T070000
END:STANDARD
END:VTIMEZONE
BEGIN:VEVENT
DTSTART;VALUE=DATE:20250926
DTEND;VALUE=DATE:20250927
DTSTAMP:20260416T163956
CREATED:20250402T215053Z
LAST-MODIFIED:20250822T040212Z
UID:17487-1758844800-1758931199@archive.dbqart.org
SUMMARY:DuMA Gala 2025
DESCRIPTION:Join us for an evening of vibrant creativity honoring our past\, celebrating our present\, and looking beyond to a bright future \nFriday\, September 26\, 2025\nDupaco Voices Building – 1000 Jackson St. \nLearn More \n\n\n\n\n \n\n\n 
URL:https://archive.dbqart.org/event/save-the-date-duma-gala-2025/
LOCATION:Voices Dupaco Building\, 1000 Jackson Street\, Dubuque\, IA\, 52001\, United States
CATEGORIES:Events,Fundraiser,Save the Date
END:VEVENT
BEGIN:VEVENT
DTSTART;TZID=America/Chicago:20220612T140000
DTEND;TZID=America/Chicago:20220612T144500
DTSTAMP:20260416T163956
CREATED:20220425T075442Z
LAST-MODIFIED:20220519T203649Z
UID:12639-1655042400-1655045100@archive.dbqart.org
SUMMARY:Ukrainian relief musical program
DESCRIPTION:DuMA will host an “Afternoon of Music and Contemplation” in support of the Ukrainian people on Sunday\, June 12 at 2:00 p.m. at the Museum. \nThis musical program is sponsored by Sue Lindsay\, DuMA supporter and former volunteer. Violinists Hana Velde and Ann Duchow and soprano Hannah Von Mulert will perform Ukrainian folk music as well as works by composer Pyotr Tchaikovsky\, whose family had Ukrainian roots\, and composer Reinhold Gliere\, whose music incorporates Ukrainian folk tunes. \nWhile this is a free event\, the Museum encourages you to donate to World Central Kitchen. \nWCK uses the power of food to nourish communities and strengthen economies in times of crisis. From the onset of the Ukrainian War\, the WCK Chef Relief Team brought and continues to deliver tens of thousands of fresh nourishing meals daily to Ukrainian cities and surrounding regions\, bringing hope and sustenance to those in bomb shelters\, hospitals\, churches\, seniors\, and people trapped on the front lines. \nYour donation will be used to support WCK’s emergency food relief efforts. \nClick Here to Donate to World Central Kitchen
URL:https://archive.dbqart.org/event/ukrainian-relief-musical-program/
LOCATION:Dubuque Museum of Art\, 701 Locust St.\, Dubuque\, IA\, 52001\, United States
CATEGORIES:Events,Free,Fundraiser
END:VEVENT
BEGIN:VEVENT
DTSTART;TZID=America/Chicago:20200220T180000
DTEND;TZID=America/Chicago:20200220T200000
DTSTAMP:20260416T163956
CREATED:20200205T230722Z
LAST-MODIFIED:20200212T213336Z
UID:7739-1582221600-1582228800@archive.dbqart.org
SUMMARY:Spring 2020 Dining Series: Mardi Gras Soiree
DESCRIPTION:Mardi Gras Soiree\nThursday\, February 20\, 6-8 PM\nThe Driftless\n168 E. 10th St.\, Dubuque\n \nAs they say in New Orleans “Laissez les bon temps rouler – or let the good times roll!” \nJoin The Driftless chef Justin McComas and owner Kyla McComas as they walk you through the flavors of the French Quarter and have you experiencing a Fat Tuesday feast a little early this year. \nYou will enjoy a multi-course tasting menu at Dubuque’s newest special event space\, The Driftless\, located in the Historic Millwork District. Enjoy great company and food\, all for a great cause. \nReservations and seating are limited. For more information\, or to purchase your tickets by phone\, contact Director of Advancement Barb Barton at 563-557-1851 ext. 110. \n\n\n\n\n\nReserve Now
URL:https://archive.dbqart.org/event/spring-2020-dining-series-mardi-gras-soiree/
LOCATION:The Driftless\, 168 E. 10th St\, Dubuque\, IA\, 52001
CATEGORIES:Events,Fundraiser,Registration required
ORGANIZER;CN="Dubuque Museum of Art":MAILTO:info@dbqart.org
END:VEVENT
BEGIN:VEVENT
DTSTART;TZID=America/Chicago:20181109T180000
DTEND;TZID=America/Chicago:20181109T210000
DTSTAMP:20260416T163956
CREATED:20181003T193753Z
LAST-MODIFIED:20181103T210646Z
UID:5785-1541786400-1541797200@archive.dbqart.org
SUMMARY:ANNUAL ART GALA\, AUCTION & RAFFLE
DESCRIPTION:Join us for an extraordinary evening of art\, entertainment and celebration\, benefiting and celebrating\nthe Dubuque Museum of Art. This year’s event will highlight the impact of arts education and community\npartnerships. \nAdvance tickets may be purchased until November 8 at https://dbqart.ejoinme.org/move \nPreview silent and live auction items here\n\nFEATURING:\n• Cocktail hour at 6 p.m.\n• Silent and live auction featuring works of art\, themed packages\, dining experiences and travel\nopportunities\n• Live music\n• Raffle drawing for cash prizes \nAdvance tickets: $60 per guest. Day of event: $75.\nAll proceeds benefit Museum programs. \nTHANK YOU TO ALL OUR SPONSORS AND COMMUNITY PARTNERS: \nConlon Construction Co.\nDB&T Dubuque Bank and Trust\nMolo Plumbing and Heating\nGigantic Design Co.\nA.Y. McDonald Charitable Foundation\nDupaco Community Credit Union\nHonkamp Krueger & Co. PC\nImOn Communications\nMcCoy Jewelers\nU.S. Bank
URL:https://archive.dbqart.org/event/annual-art-gala-auction-raffle/
LOCATION:Hotel Julien Dubuque\, 200 Main St\, Dubuque\, IA\, 52001\, United States
CATEGORIES:Fundraiser,Registration required
ORGANIZER;CN="Dubuque Museum of Art":MAILTO:info@dbqart.org
END:VEVENT
BEGIN:VEVENT
DTSTART;TZID=America/Chicago:20180601T170000
DTEND;TZID=America/Chicago:20180601T200000
DTSTAMP:20260416T163956
CREATED:20171230T235023Z
LAST-MODIFIED:20180505T163324Z
UID:4516-1527872400-1527883200@archive.dbqart.org
SUMMARY:UPSCALE RESALE: TAGSALE + BENEFIT FOR THE MUSEUM
DESCRIPTION:Upscale Resale\nA Terrific Tag Sale & Benefit for the Dubuque Museum of Art\nPreview Party\, Friday\, June 1\, 5-8 pm\n Admission: $20 ($15 DuMA members) \nSaturday: 9 AM – 5 PM | Sunday: 11 AM – 4 PM\n Free admission and parking on Saturday and Sunday. \nYou won’t want to miss this tag sale of vintage décor\, home furnishings and stylish accessories at bargain prices. Moving? Downsizing? Cleaning out? Let someone else enjoy your beautiful things. A volunteer committee and appraiser will appropriately price all items for sale. \nIn conjunction with a special exhibition highlighting regional craft & design\, the Dubuque Museum of Art is organizing a fabulous three-day sale of gently-used décor\, stylish accessories and fine home furnishings\, called Upscale Resale\, on June 1-3\, 2018. All proceeds from the event will benefit Museum programs. \nUpscale Resale is modeled after similar events in other communities. As in other cities\, we anticipate that our community will respond to having the opportunity to collect fine items at very affordable prices. We also anticipate providing ideas and assistance to those interesting in the trend of repurposing and ‘upcycling’ old furniture and decor. \nItems for sale include: \n\nHome décor including lamps\, rugs and wall hangings\nCeramic dishes\nGlass and stemware\nOriginal prints and paintings\nBooks\nAntique glass display cases\nAntique tools and drill press\nDubuque collectibles\nAnd much more!\n\nDonations will be accepted through Wednesday\, May 23.\nTo offer a donation\, please complete this short form.\nYou may also e-mail the requested information to info@dbqart.org or call 563-557-1851. Please contact the museum first before dropping off your items. Once approved\, donated items may be dropped off at the following dates/times and location: \nDrop-Off Dates                                    Time                   Location \nFridays (until May 25)                             Noon-1 pm        Dubuque Museum of Art\nSaturdays (until May 26)                      1-4 pm               Dubuque Museum of Art \nAll donations are final and tax deductible to the full extent allowed by law.
URL:https://archive.dbqart.org/event/vintage-a-terrific-tag-sale-to-benefit-the-museum/
LOCATION:Dubuque Museum of Art\, 701 Locust St.\, Dubuque\, IA\, 52001\, United States
CATEGORIES:Events,Fundraiser
ORGANIZER;CN="Dubuque Museum of Art":MAILTO:info@dbqart.org
END:VEVENT
BEGIN:VEVENT
DTSTART;TZID=America/Chicago:20171110T180000
DTEND;TZID=America/Chicago:20171110T210000
DTSTAMP:20260416T163956
CREATED:20170811T190228Z
LAST-MODIFIED:20171106T160849Z
UID:3946-1510336800-1510347600@archive.dbqart.org
SUMMARY:43rd Annual Gala\, Art Auction and Raffle
DESCRIPTION:Annually attracting an audience of more than 200 guests\, the Annual Gala\, Art Auction and Raffle is an unforgettable evening of exceptional dining\, entertainment and art celebrating and benefiting Iowa’s oldest cultural institution. All proceeds from the event directly benefit the Dubuque Museum of Art’s education and community outreach programs. \nRegister by November 9th and save $15. Advanced registration $60. Day of\, $75. \nPreview the auction program (PDF) ⁄  Follow this link for our Art Auction Page
URL:https://archive.dbqart.org/event/43rd-annual-gala-art-auction-and-raffle/
LOCATION:Hotel Julien Dubuque\, 200 Main St\, Dubuque\, IA\, 52001\, United States
CATEGORIES:Events,Fundraiser
ORGANIZER;CN="Dubuque Museum of Art":MAILTO:info@dbqart.org
END:VEVENT
BEGIN:VEVENT
DTSTART;TZID=America/Chicago:20170930T150000
DTEND;TZID=America/Chicago:20170930T150000
DTSTAMP:20260416T163956
CREATED:20170811T205123Z
LAST-MODIFIED:20170811T205123Z
UID:3956-1506783600-1506783600@archive.dbqart.org
SUMMARY:Magic for the Museum 3!
DESCRIPTION:Magician and emcee Craig Beytien will be joined by friends Rick Eugene\, Craig Steven\, and the Hanson Family Jugglers for an afternoon of magical entertainment that will delight parents and children of all ages. \nTickets are $10 per person ($5 under 12 years old) and may be purchased by calling the museum at 563-557-1851\, or at the door. All proceeds from the event benefit museum educational programming. \nSponsored by TH Media
URL:https://archive.dbqart.org/event/magic-for-the-museum-3/
LOCATION:Hempstead Highschool Auditorium\, 3715 Pennsylvania Ave\, Dubuque\, IA\, 52002\, United States
CATEGORIES:Events,Family friendly,Fundraiser
END:VEVENT
BEGIN:VEVENT
DTSTART;TZID=America/Chicago:20161111T180000
DTEND;TZID=America/Chicago:20161111T230000
DTSTAMP:20260416T163956
CREATED:20160906T134446Z
LAST-MODIFIED:20160919T162933Z
UID:2570-1478887200-1478905200@archive.dbqart.org
SUMMARY:Annual Art Auction\, Gala & Raffle
DESCRIPTION:This year’s event will be based on the theme “Haute Hong Kong.” Enjoy a live and silent auction\, featuring works of art by some of our most talented regional artists\, creative experiences and artful travel and dining packages. \nClick here to view the art catalog & event website. \nHonorary Co-Chairs: Tim and Heather Runde\nPlatinum Sponsor: Runde Auto Group
URL:https://archive.dbqart.org/event/annual-art-auction-gala-raffle/
LOCATION:Hotel Julien Dubuque\, 200 Main St\, Dubuque\, IA\, 52001\, United States
CATEGORIES:Events,Fundraiser
END:VEVENT
BEGIN:VEVENT
DTSTART;TZID=America/Chicago:20151113T180000
DTEND;TZID=America/Chicago:20151113T180000
DTSTAMP:20260416T163956
CREATED:20150807T211953Z
LAST-MODIFIED:20151109T165722Z
UID:1449-1447437600-1447437600@archive.dbqart.org
SUMMARY:WHITEOUT - Annual Holiday Party and Art Auction
DESCRIPTION:Save the date for the 41st Annual Holiday Party and Art Auction\, benefiting the Dubuque Museum of Art.\nPlease CLICK HERE for event details\, including information on event tickets\, sponsors\, online auction items\, and how to make a donation.\nThis year’s event\, based on the theme Whiteout\, will feature an online\, live\, and silent auction\, live entertainment\, themed decor\, and much more. Also new for this year\, individual collectors may support the Museum by donating works of art and decor to the auction. \nEvent tickets go on sale by September 1. Auction donations may be offered via Bidding for Good.
URL:https://archive.dbqart.org/event/white-out-annual-holiday-party-and-art-auction/
LOCATION:Hotel Julien Dubuque\, 200 Main St\, Dubuque\, IA\, 52001\, United States
CATEGORIES:Events,Fundraiser
ORGANIZER;CN="Dubuque Museum of Art":MAILTO:info@dbqart.org
END:VEVENT
BEGIN:VEVENT
DTSTART;VALUE=DATE:20141107
DTEND;VALUE=DATE:20141108
DTSTAMP:20260416T163956
CREATED:20140927T002809Z
LAST-MODIFIED:20141110T172006Z
UID:694-1415318400-1415404799@archive.dbqart.org
SUMMARY:VERY IMPORTANT pARTy!
DESCRIPTION:Annual fundraiser gala supporting DUMA programs\, education\, and exhibitions.\nFriday\, November 7\, 2014 at 6:00 PM\n cocktails\, hors d’oeuvres\, and live & silent auctions\nWith a chance to win $15\,000 in cash prizes!\nDUMA raffle tickets are going fast. Get one soon.\nRaffle sponsored by Crescent Electric Supply\, Marge and John Cooke\, Doug Warthan\, Coldwell Banker Dominic Goodmann\, Jan and Bill Stoffel\, Christine and Nick Yiannias\, Tony Pfohl\, Ramada Galena\, Farber Bag. \nFor auction reservations or to purchase a raffle ticket call the Museum at (563)557-1851.\n*Auction reservations can also be made online using the DONATE button at the top of this page (Credit card payments only\, via PayPal). Cost is $40 per person. In the Notes section of the Donate Form indicate that payment is for the Art Auction. Raffle tickets cannot be purchased online. \nAuction sponsored by\nAmerican Trust\,\nConlon Construction\, Dubuque Bank & Trust\,\nPremier Bank\, U.S. Bank\, and\nEast Dubuque Savings Bank
URL:https://archive.dbqart.org/event/very-important-party/
LOCATION:Hotel Julien Dubuque\, 200 Main St\, Dubuque\, IA\, 52001\, United States
CATEGORIES:Fundraiser
ATTACH;FMTTYPE=image/jpeg:https://archive.dbqart.org/wp-content/uploads/2014/09/poster.jpeg
ORGANIZER;CN="Dubuque Museum of Art":MAILTO:info@dbqart.org
END:VEVENT
END:VCALENDAR