BEGIN:VCALENDAR
VERSION:2.0
PRODID:-//Dubuque Museum of Art - ECPv6.15.20//NONSGML v1.0//EN
CALSCALE:GREGORIAN
METHOD:PUBLISH
X-ORIGINAL-URL:https://archive.dbqart.org
X-WR-CALDESC:Events for Dubuque Museum of Art
REFRESH-INTERVAL;VALUE=DURATION:PT1H
X-Robots-Tag:noindex
X-PUBLISHED-TTL:PT1H
BEGIN:VTIMEZONE
TZID:America/Chicago
BEGIN:DAYLIGHT
TZOFFSETFROM:-0600
TZOFFSETTO:-0500
TZNAME:CDT
DTSTART:20180311T080000
END:DAYLIGHT
BEGIN:STANDARD
TZOFFSETFROM:-0500
TZOFFSETTO:-0600
TZNAME:CST
DTSTART:20181104T070000
END:STANDARD
BEGIN:DAYLIGHT
TZOFFSETFROM:-0600
TZOFFSETTO:-0500
TZNAME:CDT
DTSTART:20190310T080000
END:DAYLIGHT
BEGIN:STANDARD
TZOFFSETFROM:-0500
TZOFFSETTO:-0600
TZNAME:CST
DTSTART:20191103T070000
END:STANDARD
BEGIN:DAYLIGHT
TZOFFSETFROM:-0600
TZOFFSETTO:-0500
TZNAME:CDT
DTSTART:20200308T080000
END:DAYLIGHT
BEGIN:STANDARD
TZOFFSETFROM:-0500
TZOFFSETTO:-0600
TZNAME:CST
DTSTART:20201101T070000
END:STANDARD
END:VTIMEZONE
BEGIN:VTIMEZONE
TZID:America/Chicago
BEGIN:DAYLIGHT
TZOFFSETFROM:-0600
TZOFFSETTO:-0500
TZNAME:CDT
DTSTART:20160313T080000
END:DAYLIGHT
BEGIN:STANDARD
TZOFFSETFROM:-0500
TZOFFSETTO:-0600
TZNAME:CST
DTSTART:20161106T070000
END:STANDARD
BEGIN:DAYLIGHT
TZOFFSETFROM:-0600
TZOFFSETTO:-0500
TZNAME:CDT
DTSTART:20170312T080000
END:DAYLIGHT
BEGIN:STANDARD
TZOFFSETFROM:-0500
TZOFFSETTO:-0600
TZNAME:CST
DTSTART:20171105T070000
END:STANDARD
BEGIN:DAYLIGHT
TZOFFSETFROM:-0600
TZOFFSETTO:-0500
TZNAME:CDT
DTSTART:20180311T080000
END:DAYLIGHT
BEGIN:STANDARD
TZOFFSETFROM:-0500
TZOFFSETTO:-0600
TZNAME:CST
DTSTART:20181104T070000
END:STANDARD
BEGIN:DAYLIGHT
TZOFFSETFROM:-0600
TZOFFSETTO:-0500
TZNAME:CDT
DTSTART:20190310T080000
END:DAYLIGHT
BEGIN:STANDARD
TZOFFSETFROM:-0500
TZOFFSETTO:-0600
TZNAME:CST
DTSTART:20191103T070000
END:STANDARD
END:VTIMEZONE
BEGIN:VEVENT
DTSTART;TZID=America/Chicago:20190418T121500
DTEND;TZID=America/Chicago:20190418T130000
DTSTAMP:20260421T235412
CREATED:20190407T213911Z
LAST-MODIFIED:20190407T213911Z
UID:6567-1555589700-1555592400@archive.dbqart.org
SUMMARY:Third Thursday Tour
DESCRIPTION:Join Curator\, Stacy Peterson and Director of Education\, Margaret Buhr for an informal tour of the “African Art in the 20th Century” from the Collection of the Smithsonian American Art. Included will be a a brief history of African American art and stories about the artists and their creative process. You will be encouraged to share your insights about this remarkable exhibition from the Smithsonian American Art Museum. \nLoïs Mailou Jones\, Moon Masque\, 1971\, oil and collage on canvas. Smithsonian American Art Museum\, bequest of the artist.
URL:https://archive.dbqart.org/event/third-thursday-tour/
LOCATION:Dubuque Museum of Art\, 701 Locust St.\, Dubuque\, IA\, 52001\, United States
CATEGORIES:Education,Gallery Talk
ORGANIZER;CN="Dubuque Museum of Art":MAILTO:info@dbqart.org
END:VEVENT
BEGIN:VEVENT
DTSTART;TZID=America/Chicago:20190224T133000
DTEND;TZID=America/Chicago:20190224T150000
DTSTAMP:20260421T235412
CREATED:20190201T221641Z
LAST-MODIFIED:20190201T222138Z
UID:6245-1551015000-1551020400@archive.dbqart.org
SUMMARY:Gallery Talk: Virginia Mecklenburg
DESCRIPTION:Chief Curator at the Smithsonian American Art Museum\, Virginia Mecklenburg\, will present a gallery talk on the “African American Art In The 20th Century” exhibition that she curated.
URL:https://archive.dbqart.org/event/gallery-talk-virginia-meckelenburg/
LOCATION:Dubuque Museum of Art\, 701 Locust St.\, Dubuque\, IA\, 52001\, United States
CATEGORIES:Free,Gallery Talk
END:VEVENT
BEGIN:VEVENT
DTSTART;TZID=America/Chicago:20181024T121500
DTEND;TZID=America/Chicago:20181024T130000
DTSTAMP:20260421T235412
CREATED:20180905T192215Z
LAST-MODIFIED:20180905T192215Z
UID:5493-1540383300-1540386000@archive.dbqart.org
SUMMARY:Louise Kames Gallery Talk
DESCRIPTION:Gallery walk through of Just to Live is Holy exhibition and Louise Kames’ Dear Mother installation.
URL:https://archive.dbqart.org/event/louise-kames-gallery-talk/
LOCATION:Dubuque Museum of Art\, 701 Locust St.\, Dubuque\, IA\, 52001\, United States
CATEGORIES:Gallery Talk
ORGANIZER;CN="Dubuque Museum of Art":MAILTO:info@dbqart.org
END:VEVENT
BEGIN:VEVENT
DTSTART;TZID=America/Chicago:20180922T100000
DTEND;TZID=America/Chicago:20180922T160000
DTSTAMP:20260421T235412
CREATED:20180815T215105Z
LAST-MODIFIED:20180918T192323Z
UID:5415-1537610400-1537632000@archive.dbqart.org
SUMMARY:Community Day/Smithsonian Museum Day Live
DESCRIPTION:Community Day – Women Making History \nJoin us in celebrating the opening of the exhibition Just to Live is Holy: Women Religious and a Tradition of Art\, Faith and Justice and Smithsonian Day Live. This year’s theme is “Women Making History”. \nVisitors will enjoy: \n\nFREE admission all day (10 am – 4 pm)\nStaff and docent-led tours of the exhibit Just to Live is Holy\n“Women of Dubuque” portrait project pop-up exhibit in the Museum Lobby\nViewing and celebrating the new outdoor sculpture Irene\nViewing and celebrating community mural project\, created by Little Luxuries and artist Chelsea Tapia\n\n10 am-Noon \n\nComplimentary coffee and donuts
URL:https://archive.dbqart.org/event/community-day-smithsonian-museum-day-live/
LOCATION:Dubuque Museum of Art\, 701 Locust St.\, Dubuque\, IA\, 52001\, United States
CATEGORIES:Events,Family friendly,Free,Gallery Talk
END:VEVENT
BEGIN:VEVENT
DTSTART;TZID=America/Chicago:20180826T130000
DTEND;TZID=America/Chicago:20180826T140000
DTSTAMP:20260421T235412
CREATED:20180524T192145Z
LAST-MODIFIED:20180817T184855Z
UID:5202-1535288400-1535292000@archive.dbqart.org
SUMMARY:Gallery Talk with Carol Sauvion
DESCRIPTION:A Gallery Talk with Carol Sauvion\nSunday\, August 26th\n1 PM – 2 PM\nCarol Sauvion\, creator and producer/director of the award-winning PBS series “Craft in America”\, will present a lecture in conjunction with the exhibition “Handmade Craft Invitational.” Ms. Sauvion has operated Freehand\, a Los Angeles gallery specializing in functional craft\, for 37 years. \nThe exhibition: “Handmade Craft Invitational” continues through September 9\, 2018. \nFree Admission
URL:https://archive.dbqart.org/event/gallery-talk-with-carol-sauvion/
LOCATION:Dubuque Museum of Art\, 701 Locust St.\, Dubuque\, IA\, 52001\, United States
CATEGORIES:Free,Gallery Talk,Lectures
ORGANIZER;CN="Dubuque Museum of Art":MAILTO:info@dbqart.org
END:VEVENT
BEGIN:VEVENT
DTSTART;TZID=America/Chicago:20180619T121500
DTEND;TZID=America/Chicago:20180619T130000
DTSTAMP:20260421T235412
CREATED:20180413T203131Z
LAST-MODIFIED:20180413T203131Z
UID:5063-1529410500-1529413200@archive.dbqart.org
SUMMARY:Artist Talk: Sandra Dyas
DESCRIPTION:Artist Sandra Dyas will give a gallery talk on Tuesday\, June 19 from 12:15-1 pm. \nDyas will discuss her exhibition\, Lost in the Midwest: Photographs by Sandra Dyas\, on exhibition from May 26-September 9\, 2018.
URL:https://archive.dbqart.org/event/artist-talk-sandra-dyas/
LOCATION:Dubuque Museum of Art\, 701 Locust St.\, Dubuque\, IA\, 52001\, United States
CATEGORIES:Free,Gallery Talk,Programs
END:VEVENT
BEGIN:VEVENT
DTSTART;TZID=America/Chicago:20180318T130000
DTEND;TZID=America/Chicago:20180318T150000
DTSTAMP:20260421T235412
CREATED:20171231T001025Z
LAST-MODIFIED:20180110T185211Z
UID:4522-1521378000-1521385200@archive.dbqart.org
SUMMARY:Gallery Talk - "Charles Thwaites: An American Journey" with Graeme Reid
DESCRIPTION:Join Graeme Reid\, Director of Collections and Exhibitions at the Museum of Wisconsin Art\, for a gallery talk in conjunction with DuMA’s new exhibit: Charles Thwaites: An American Journey. \nFrom Milwaukee’s burlesque houses to Mabel Dodge Luhan’s Pink House in Taos\, Charles Thwaites quietly went about recording his surrounds with a keen eye and a rare talent. This talk will trace Thwaites’ artistic journey from a chance encounter with an artist at UW Madison in the 1920s\, to being at the epicenter of New Mexico’s cultural life in the 1950s\, revealing an artist completely in tune with the shifting artistic landscape in America in the middle decades of the 20th century. \nCharles Thwaites: An American Journey is supported in part by Mosaic Lodge No. 125 and American Trust & Savings Bank.
URL:https://archive.dbqart.org/event/gallery-talk-charles-thwaites-an-american-journey-with-graeme-reid/
LOCATION:Dubuque Museum of Art\, 701 Locust St.\, Dubuque\, IA\, 52001\, United States
CATEGORIES:Free,Gallery Talk,Programs
END:VEVENT
BEGIN:VEVENT
DTSTART;TZID=America/Chicago:20180204T133000
DTEND;TZID=America/Chicago:20180204T150000
DTSTAMP:20260421T235412
CREATED:20171231T002434Z
LAST-MODIFIED:20180104T180612Z
UID:4526-1517751000-1517756400@archive.dbqart.org
SUMMARY:Gallery Talk with Photographer Noah Doely
DESCRIPTION:Join the artist for a gallery talk regarding his exhibition: OUT OF DARKNESS: PHOTOGRAPHS BY NOAH DOELY. \nNoah Doely is Assistant Professor of photography at the University of Northern Iowa in Cedar Falls\, where he also earned a BFA in sculpture before completing and MFA in visual arts from the University of California\, San Diego. \nThis program is free. \nOUT OF DARKNESS: PHOTOGRAPHS BY NOAH DOELY is open through FEBRUARY 4\, 2018\, and is sponsored by Cottingham and Butler. \nImage: Noah Doely\, Untitled #1 from the series Above & Below\, 2013\, archival pigment print mounted on dibond\, 20×35 in.\, collection of the artist.
URL:https://archive.dbqart.org/event/gallery-talk-with-photographer-noah-doely/
LOCATION:Dubuque Museum of Art\, 701 Locust St.\, Dubuque\, IA\, 52001\, United States
CATEGORIES:Free,Gallery Talk
END:VEVENT
BEGIN:VEVENT
DTSTART;TZID=America/Chicago:20171119T133000
DTEND;TZID=America/Chicago:20171119T150000
DTSTAMP:20260421T235412
CREATED:20170927T221720Z
LAST-MODIFIED:20171118T231030Z
UID:4140-1511098200-1511103600@archive.dbqart.org
SUMMARY:Roy Behrens Gallery Talk
DESCRIPTION:In conjunction with the exhibition Razzle-Dazzle: World War I Camouflage Ephemera\, collection owner Roy Behrens will speak about the little known use of designers\, architects and artists (including Iowan Grant Wood) as army\, navy\, and civilian camouflage experts (called camoufleurs) during World Wars I and II. \nA noted scholar on the aesthetics and history of camouflage\, Behrens is the author of numerous books and scholarly articles on the subject and has been described by Communication Arts magazine as “one of the most original thinkers in design.” His most recent book is Frank Lloyd Wright and Mason City: Architectural Heart of the Prairie. \nThis program is free. Attendees are invited to tour the Museum’s current exhibitions after the talk for no charge. \nSponsored by Humanities Iowa
URL:https://archive.dbqart.org/event/roy-behrens-gallery-talk/
LOCATION:Dubuque Museum of Art\, 701 Locust St.\, Dubuque\, IA\, 52001\, United States
CATEGORIES:Free,Gallery Talk,Lectures
END:VEVENT
BEGIN:VEVENT
DTSTART;TZID=America/Chicago:20171115T121500
DTEND;TZID=America/Chicago:20171115T130000
DTSTAMP:20260421T235412
CREATED:20170924T221940Z
LAST-MODIFIED:20171018T184212Z
UID:4100-1510748100-1510750800@archive.dbqart.org
SUMMARY:Lunch & Learn: Remnants of the West
DESCRIPTION:Join DuMA for a gallery walk looking at selected works from the exhibition Remnants of the West: Edward S. Curtis and Mark James\, with Executive Director David Schmitz\, Associate Curator and Registrar Stacy Peterson\, and Director of Education\, Margaret Buhr. There is no charge for this event.
URL:https://archive.dbqart.org/event/lunch-learn-remnants-of-the-west/
LOCATION:Dubuque Museum of Art\, 701 Locust St.\, Dubuque\, IA\, 52001\, United States
CATEGORIES:Edward S. Curtis,Free,Gallery Talk,Lunch & Learn
END:VEVENT
BEGIN:VEVENT
DTSTART;TZID=America/Chicago:20171029T133000
DTEND;TZID=America/Chicago:20171029T150000
DTSTAMP:20260421T235412
CREATED:20170924T222913Z
LAST-MODIFIED:20170924T222913Z
UID:4102-1509283800-1509289200@archive.dbqart.org
SUMMARY:Time Capsules: Photography and Anachronism with George Slade
DESCRIPTION:Join DuMA for Time Capsules: Photography and Anachronism\, a lecture by photography historian and curator George Slade focusing on the Museum’s current exhibit Remnants of the West: Edward S. Curtis and Mark James. \nBoth Edward Curtis and Mark James use their photographic skills to transport us into other times and spaces. How do their images reflect photography’s unique capacity to represent history? This lecture will explore the question specifically in regards to Curtis and James\, and more broadly as a phenomenon singular to the medium. \nLecture is free. Attendees are invited to tour the museum galleries and exhibit Remnants of the West after the talk at no charge.
URL:https://archive.dbqart.org/event/time-capsules-photography-and-anachronism-with-george-slade/
LOCATION:Dubuque Museum of Art\, 701 Locust St.\, Dubuque\, IA\, 52001\, United States
CATEGORIES:Edward S. Curtis,Free,Gallery Talk,Lectures
END:VEVENT
BEGIN:VEVENT
DTSTART;TZID=America/Chicago:20170902T133000
DTEND;TZID=America/Chicago:20170902T150000
DTSTAMP:20260421T235412
CREATED:20170802T184609Z
LAST-MODIFIED:20170802T184609Z
UID:3893-1504359000-1504364400@archive.dbqart.org
SUMMARY:Mark James Gallery Talk
DESCRIPTION:Mark James\, What is a Photograph… Really? \nJoin photographer Mark James for a gallery talk coinciding with new exhibit: Remnants of the West: Photographs by Edward S. Curtis and Mark James.  Talk is free and attendees are invited to tour the museum after the talk for no additional charge.
URL:https://archive.dbqart.org/event/mark-james-gallery-talk/
LOCATION:Dubuque Museum of Art\, 701 Locust St.\, Dubuque\, IA\, 52001\, United States
CATEGORIES:Free,Gallery Talk
ORGANIZER;CN="Dubuque Museum of Art":MAILTO:info@dbqart.org
END:VEVENT
BEGIN:VEVENT
DTSTART;TZID=America/Chicago:20170603T133000
DTEND;TZID=America/Chicago:20170603T150000
DTSTAMP:20260421T235412
CREATED:20170428T152741Z
LAST-MODIFIED:20170428T152849Z
UID:3330-1496496600-1496502000@archive.dbqart.org
SUMMARY:Amanda Burdan Gallery Talk
DESCRIPTION:Free program featuring guest juror Amanda Burdan\, associate curator at the Brandywine River Museum of Art in Chadds Ford\, Pennsylvania. \nMs. Burdan will speak in depth about her curation background and her process as a juror to select the participants of the 2017 DuMA Biennial Exhibition. Feel free to tour the galleries free of charge after the talk.
URL:https://archive.dbqart.org/event/amanda-burdan-gallery-talk/
LOCATION:Dubuque Museum of Art\, 701 Locust St.\, Dubuque\, IA\, 52001\, United States
CATEGORIES:Free,Gallery Talk
END:VEVENT
END:VCALENDAR