BEGIN:VCALENDAR
VERSION:2.0
PRODID:-//Dubuque Museum of Art - ECPv6.15.20//NONSGML v1.0//EN
CALSCALE:GREGORIAN
METHOD:PUBLISH
X-WR-CALNAME:Dubuque Museum of Art
X-ORIGINAL-URL:https://archive.dbqart.org
X-WR-CALDESC:Events for Dubuque Museum of Art
REFRESH-INTERVAL;VALUE=DURATION:PT1H
X-Robots-Tag:noindex
X-PUBLISHED-TTL:PT1H
BEGIN:VTIMEZONE
TZID:America/Chicago
BEGIN:DAYLIGHT
TZOFFSETFROM:-0600
TZOFFSETTO:-0500
TZNAME:CDT
DTSTART:20190310T080000
END:DAYLIGHT
BEGIN:STANDARD
TZOFFSETFROM:-0500
TZOFFSETTO:-0600
TZNAME:CST
DTSTART:20191103T070000
END:STANDARD
BEGIN:DAYLIGHT
TZOFFSETFROM:-0600
TZOFFSETTO:-0500
TZNAME:CDT
DTSTART:20200308T080000
END:DAYLIGHT
BEGIN:STANDARD
TZOFFSETFROM:-0500
TZOFFSETTO:-0600
TZNAME:CST
DTSTART:20201101T070000
END:STANDARD
BEGIN:DAYLIGHT
TZOFFSETFROM:-0600
TZOFFSETTO:-0500
TZNAME:CDT
DTSTART:20210314T080000
END:DAYLIGHT
BEGIN:STANDARD
TZOFFSETFROM:-0500
TZOFFSETTO:-0600
TZNAME:CST
DTSTART:20211107T070000
END:STANDARD
BEGIN:DAYLIGHT
TZOFFSETFROM:-0600
TZOFFSETTO:-0500
TZNAME:CDT
DTSTART:20220313T080000
END:DAYLIGHT
BEGIN:STANDARD
TZOFFSETFROM:-0500
TZOFFSETTO:-0600
TZNAME:CST
DTSTART:20221106T070000
END:STANDARD
END:VTIMEZONE
BEGIN:VTIMEZONE
TZID:America/Chicago
BEGIN:DAYLIGHT
TZOFFSETFROM:-0600
TZOFFSETTO:-0500
TZNAME:CDT
DTSTART:20160313T080000
END:DAYLIGHT
BEGIN:STANDARD
TZOFFSETFROM:-0500
TZOFFSETTO:-0600
TZNAME:CST
DTSTART:20161106T070000
END:STANDARD
BEGIN:DAYLIGHT
TZOFFSETFROM:-0600
TZOFFSETTO:-0500
TZNAME:CDT
DTSTART:20170312T080000
END:DAYLIGHT
BEGIN:STANDARD
TZOFFSETFROM:-0500
TZOFFSETTO:-0600
TZNAME:CST
DTSTART:20171105T070000
END:STANDARD
BEGIN:DAYLIGHT
TZOFFSETFROM:-0600
TZOFFSETTO:-0500
TZNAME:CDT
DTSTART:20180311T080000
END:DAYLIGHT
BEGIN:STANDARD
TZOFFSETFROM:-0500
TZOFFSETTO:-0600
TZNAME:CST
DTSTART:20181104T070000
END:STANDARD
END:VTIMEZONE
BEGIN:VEVENT
DTSTART;TZID=America/Chicago:20211114T133000
DTEND;TZID=America/Chicago:20211114T143000
DTSTAMP:20260419T110509
CREATED:20211021T185541Z
LAST-MODIFIED:20211028T033039Z
UID:12077-1636896600-1636900200@archive.dbqart.org
SUMMARY:Reflections on the Grant Wood Memorial Window​ Talk
DESCRIPTION:FREE with Museum admission \nTeri Van Dorston\, assistant director at the Veterans Memorial Commission in Cedar Rapids discusses Grant Wood’s Veterans Memorial Window project for the Cedar Rapids Veterans Memorial Building.
URL:https://archive.dbqart.org/event/grant-wood-memorial-window-talk/
LOCATION:Dubuque Museum of Art\, 701 Locust St.\, Dubuque\, IA\, 52001\, United States
CATEGORIES:Free,Grant Wood,Lectures
END:VEVENT
BEGIN:VEVENT
DTSTART;TZID=America/Chicago:20200315T130000
DTEND;TZID=America/Chicago:20200315T140000
DTSTAMP:20260419T110509
CREATED:20200119T230439Z
LAST-MODIFIED:20200313T154234Z
UID:7662-1584277200-1584280800@archive.dbqart.org
SUMMARY:Grant Wood's Secrets
DESCRIPTION:DR. SUE TAYLOR\nProfessor Emerita of Art History\nPortland State University \nHosted in conjunction with the Grant Wood Art Colony\, University of Iowa. \nIn Grant Wood’s Secrets\, the title of her talk and new book\, author and professor Sue Taylor incorporates original research and close readings of Grant Wood’s iconic\, as well as lesser-known\, artworks to reveal how the artist’s sometimes anguished psychology and art was shaped by his close relationship with his mother. \nPresenting Wood’s unfinished autobiography “Return from Bohemia” for the first time ever\, Sue Taylor integrates the artist’s own recollections into fresh interpretations of his art. Dr. Sue Taylor holds advanced degrees in art history from Roosevelt University and the University of Chicago. Taylor has worked as a museum curator and newspaper critic as well as a professor of art history.
URL:https://archive.dbqart.org/event/grant-woods-secrets/
LOCATION:Dubuque Museum of Art\, 701 Locust St.\, Dubuque\, IA\, 52001\, United States
CATEGORIES:Education,Free,Grant Wood,Lectures
END:VEVENT
BEGIN:VEVENT
DTSTART;TZID=America/Chicago:20170509T121500
DTEND;TZID=America/Chicago:20170509T130000
DTSTAMP:20260419T110509
CREATED:20170401T194943Z
LAST-MODIFIED:20170402T182650Z
UID:3251-1494332100-1494334800@archive.dbqart.org
SUMMARY:Lunch and Learn: Grant Wood Fellows
DESCRIPTION:Meet the 2016-17 Grant Wood Fellows\, printmakers Tameka Norris and Colin Lyons. These artists focus their work on issues of race\, ethnicity\, and the environment. Feel free to bring a sack lunch.
URL:https://archive.dbqart.org/event/lunch-and-learn-grant-wood-felllows/
LOCATION:Dubuque Museum of Art\, 701 Locust St.\, Dubuque\, IA\, 52001\, United States
CATEGORIES:Free,Grant Wood,Lunch & Learn
END:VEVENT
END:VCALENDAR