BEGIN:VCALENDAR
VERSION:2.0
PRODID:-//Dubuque Museum of Art - ECPv6.15.20//NONSGML v1.0//EN
CALSCALE:GREGORIAN
METHOD:PUBLISH
X-WR-CALNAME:Dubuque Museum of Art
X-ORIGINAL-URL:https://archive.dbqart.org
X-WR-CALDESC:Events for Dubuque Museum of Art
REFRESH-INTERVAL;VALUE=DURATION:PT1H
X-Robots-Tag:noindex
X-PUBLISHED-TTL:PT1H
BEGIN:VTIMEZONE
TZID:America/Chicago
BEGIN:DAYLIGHT
TZOFFSETFROM:-0600
TZOFFSETTO:-0500
TZNAME:CDT
DTSTART:20170312T080000
END:DAYLIGHT
BEGIN:STANDARD
TZOFFSETFROM:-0500
TZOFFSETTO:-0600
TZNAME:CST
DTSTART:20171105T070000
END:STANDARD
BEGIN:DAYLIGHT
TZOFFSETFROM:-0600
TZOFFSETTO:-0500
TZNAME:CDT
DTSTART:20180311T080000
END:DAYLIGHT
BEGIN:STANDARD
TZOFFSETFROM:-0500
TZOFFSETTO:-0600
TZNAME:CST
DTSTART:20181104T070000
END:STANDARD
BEGIN:DAYLIGHT
TZOFFSETFROM:-0600
TZOFFSETTO:-0500
TZNAME:CDT
DTSTART:20190310T080000
END:DAYLIGHT
BEGIN:STANDARD
TZOFFSETFROM:-0500
TZOFFSETTO:-0600
TZNAME:CST
DTSTART:20191103T070000
END:STANDARD
END:VTIMEZONE
BEGIN:VEVENT
DTSTART;TZID=America/Chicago:20180811T080000
DTEND;TZID=America/Chicago:20180811T160000
DTSTAMP:20260422T014117
CREATED:20180715T235432Z
LAST-MODIFIED:20180731T202832Z
UID:5296-1533974400-1534003200@archive.dbqart.org
SUMMARY:DuMA Member Trip to Madison - Day Trip and Studio Tour
DESCRIPTION:DuMA Member Trip\nto Madison \nSaturday\, August 11 – Day Trip \nDuMA members will enjoy the privilege of  a free visit to the studio of woodworker Aaron Laux followed by lunch and a guided tour of current exhibitions at the Chazen Museum of Art. This member trip is offered in conjunction with the exhibition: “Handmade Craft Invitational” continuing through September 9\, 2018. \nMeet at DuMA parking lot at 8 am to carpool. Return to Dubuque by 4 pm. Members purchase their own lunch. \nAdvanced reservations are preferred\, call 563-557-1851 x11 or email abarron@dbqart.org
URL:https://archive.dbqart.org/event/duma-member-trip-to-madison-day-trip-and-studio-tour/
LOCATION:IA
CATEGORIES:Member Trips,Registration required
ORGANIZER;CN="Dubuque Museum of Art":MAILTO:info@dbqart.org
END:VEVENT
BEGIN:VEVENT
DTSTART;TZID=America/Chicago:20180805T130000
DTEND;TZID=America/Chicago:20180805T160000
DTSTAMP:20260422T014117
CREATED:20180715T235858Z
LAST-MODIFIED:20180803T195554Z
UID:5298-1533474000-1533484800@archive.dbqart.org
SUMMARY:Artist Studio Tours: Opperman & Eshelman
DESCRIPTION:See the artist process in action! Visit the art studios of boot maker Paul Opperman and potter Paul Eshelman. This is a free event for DuMA members & $10 for guests \nMembers and guests are encouraged to provide their own transportation\, but a limited amount of rides can be provided by DuMA if needed. \n 1-2 PM Paul Opperman Studio: 818 S Grandview Ave\, Dubuque\, IA \n3-4 PM Eshelman Pottery: 238 N Main St\, Elizabeth\, IL \nAdvanced registration is preferred\, call 563-557-1851 x11 or email abarron@dbqart.org \nThe studio tours are offered in conjunction with the exhibition: “Handmade Craft Invitational” continuing through September 9\, 2018. \nPaul Opperman Eshelman Pottery
URL:https://archive.dbqart.org/event/artist-studio-tours-opperman-eshelman/
LOCATION:Dubuque Museum of Art\, 701 Locust St.\, Dubuque\, IA\, 52001\, United States
CATEGORIES:Free for Members,Member Trips,Registration required
ORGANIZER;CN="Dubuque Museum of Art":MAILTO:info@dbqart.org
END:VEVENT
END:VCALENDAR