BEGIN:VCALENDAR
VERSION:2.0
PRODID:-//Dubuque Museum of Art - ECPv6.15.20//NONSGML v1.0//EN
CALSCALE:GREGORIAN
METHOD:PUBLISH
X-ORIGINAL-URL:https://archive.dbqart.org
X-WR-CALDESC:Events for Dubuque Museum of Art
REFRESH-INTERVAL;VALUE=DURATION:PT1H
X-Robots-Tag:noindex
X-PUBLISHED-TTL:PT1H
BEGIN:VTIMEZONE
TZID:America/Chicago
BEGIN:DAYLIGHT
TZOFFSETFROM:-0600
TZOFFSETTO:-0500
TZNAME:CDT
DTSTART:20180311T080000
END:DAYLIGHT
BEGIN:STANDARD
TZOFFSETFROM:-0500
TZOFFSETTO:-0600
TZNAME:CST
DTSTART:20181104T070000
END:STANDARD
BEGIN:DAYLIGHT
TZOFFSETFROM:-0600
TZOFFSETTO:-0500
TZNAME:CDT
DTSTART:20190310T080000
END:DAYLIGHT
BEGIN:STANDARD
TZOFFSETFROM:-0500
TZOFFSETTO:-0600
TZNAME:CST
DTSTART:20191103T070000
END:STANDARD
BEGIN:DAYLIGHT
TZOFFSETFROM:-0600
TZOFFSETTO:-0500
TZNAME:CDT
DTSTART:20200308T080000
END:DAYLIGHT
BEGIN:STANDARD
TZOFFSETFROM:-0500
TZOFFSETTO:-0600
TZNAME:CST
DTSTART:20201101T070000
END:STANDARD
BEGIN:DAYLIGHT
TZOFFSETFROM:-0600
TZOFFSETTO:-0500
TZNAME:CDT
DTSTART:20210314T080000
END:DAYLIGHT
BEGIN:STANDARD
TZOFFSETFROM:-0500
TZOFFSETTO:-0600
TZNAME:CST
DTSTART:20211107T070000
END:STANDARD
BEGIN:DAYLIGHT
TZOFFSETFROM:-0600
TZOFFSETTO:-0500
TZNAME:CDT
DTSTART:20220313T080000
END:DAYLIGHT
BEGIN:STANDARD
TZOFFSETFROM:-0500
TZOFFSETTO:-0600
TZNAME:CST
DTSTART:20221106T070000
END:STANDARD
END:VTIMEZONE
BEGIN:VTIMEZONE
TZID:America/Chicago
BEGIN:DAYLIGHT
TZOFFSETFROM:-0600
TZOFFSETTO:-0500
TZNAME:CDT
DTSTART:20160313T080000
END:DAYLIGHT
BEGIN:STANDARD
TZOFFSETFROM:-0500
TZOFFSETTO:-0600
TZNAME:CST
DTSTART:20161106T070000
END:STANDARD
BEGIN:DAYLIGHT
TZOFFSETFROM:-0600
TZOFFSETTO:-0500
TZNAME:CDT
DTSTART:20170312T080000
END:DAYLIGHT
BEGIN:STANDARD
TZOFFSETFROM:-0500
TZOFFSETTO:-0600
TZNAME:CST
DTSTART:20171105T070000
END:STANDARD
BEGIN:DAYLIGHT
TZOFFSETFROM:-0600
TZOFFSETTO:-0500
TZNAME:CDT
DTSTART:20180311T080000
END:DAYLIGHT
BEGIN:STANDARD
TZOFFSETFROM:-0500
TZOFFSETTO:-0600
TZNAME:CST
DTSTART:20181104T070000
END:STANDARD
BEGIN:DAYLIGHT
TZOFFSETFROM:-0600
TZOFFSETTO:-0500
TZNAME:CDT
DTSTART:20190310T080000
END:DAYLIGHT
BEGIN:STANDARD
TZOFFSETFROM:-0500
TZOFFSETTO:-0600
TZNAME:CST
DTSTART:20191103T070000
END:STANDARD
END:VTIMEZONE
BEGIN:VEVENT
DTSTART;TZID=America/Chicago:20210821T200000
DTEND;TZID=America/Chicago:20210821T220000
DTSTAMP:20260421T221340
CREATED:20210730T204838Z
LAST-MODIFIED:20210811T215000Z
UID:11521-1629576000-1629583200@archive.dbqart.org
SUMMARY:Movies at the Museum
DESCRIPTION:In partnership with Fidelity Bank & Trust\, DuMA presents Movies At The Museum at dusk (approx 8:30 pm) on Saturday\, August 21st with a viewing of Moana staring Dwayne The Rock Johnson & Auli’i Cravalho.\n\nGrab your lawn chair\, blanket\, snacks\, and bring your friends to Washington Park to enjoy an outdoor movie night.\n\nMoana (PG/2016/Animation) – An adventurous teenager named Moana living on a Polynesian island in ancient times sails out to sea on a daring mission to save her people. During her journey\, Moana meets the once-mighty demigod Maui\, who guides her in her quest to become a master wayfinder. Together\, they sail across the open ocean on an action-packed voyage\, encountering enormous monsters and impossible odds. Along the way\, Moana fulfills the ancient quest of her ancestors and discovers the one thing she always sought: her own identity.\nMovie Length – 1hr 47min\nTo view the movie trailer click here.
URL:https://archive.dbqart.org/event/movies-at-the-museum-2/
LOCATION:Dubuque Museum of Art/Washington Park\, 699 Locust St\, Dubuque\, IA\, 52001\, United States
CATEGORIES:Family friendly,Free,Movies at the Museum
ORGANIZER;CN="Dubuque Museum of Art":MAILTO:info@dbqart.org
END:VEVENT
BEGIN:VEVENT
DTSTART;TZID=America/Chicago:20190817T200000
DTEND;TZID=America/Chicago:20190817T220000
DTSTAMP:20260421T221340
CREATED:20190619T213422Z
LAST-MODIFIED:20190719T191733Z
UID:6933-1566072000-1566079200@archive.dbqart.org
SUMMARY:Movie At The Museum: Field of Dreams (1989)
DESCRIPTION:In partnership with U.S. Bank\, DuMA presents Movie At The Museum. Bring a blanket\, grab some popcorn and settle in with family & friends to watch a free movie at Washington Park. \nMovie at Dusk (Approx 8:30 pm) \nFilm: Field of Dreams (1989) 1h 47m Rated: PG
URL:https://archive.dbqart.org/event/movie-at-the-museum-2/
LOCATION:Dubuque Museum of Art/Washington Park\, 699 Locust St\, Dubuque\, IA\, 52001\, United States
CATEGORIES:Events,Family friendly,Free,Movies at the Museum
ORGANIZER;CN="Dubuque Museum of Art":MAILTO:info@dbqart.org
END:VEVENT
BEGIN:VEVENT
DTSTART;TZID=America/Chicago:20180919T180000
DTEND;TZID=America/Chicago:20180919T200000
DTSTAMP:20260421T221340
CREATED:20180822T184624Z
LAST-MODIFIED:20180822T184624Z
UID:5449-1537380000-1537387200@archive.dbqart.org
SUMMARY:Free Movie "Loving Vincent" at the Dubuque Museum of Art
DESCRIPTION:Carnegie-Stout Public Library and the Dubuque Museum of Art are partnering to show the movie “Loving Vincent” at DuMA on Wednesday\, September 19\, 2018 at 6:00 p.m. Admission is free\, but seating will be available on a first-come\, first-served basis. \nThe 2017 Oscar-nominated movie “Loving Vincent” is the world’s first fully painted feature film. A team of 125 artists used the same techniques as Vincent Van Gogh to create each of the film’s 65\,000 frames out of oil paintings on canvas. We will watch “Loving Vincent” at the Dubuque Museum of Art\, after DuMA Education Director Margaret Buhr talks about Van Gogh’s life and work. \nThe movie is 1 hour 35 minutes long\, and is rated PG-13 for “mature thematic elements\, some violence\, sexual material and smoking.” For more information\, please call Carnegie-Stout Public Library at 563-589-4225 or visit www.dubuque.lib.ia.us\, or call the Dubuque Museum of Art at 563-557-1851 or visit http://dbqart.org.
URL:https://archive.dbqart.org/event/free-movie-loving-vincent-at-the-dubuque-museum-of-art/
LOCATION:Dubuque Museum of Art\, 701 Locust St.\, Dubuque\, IA\, 52001\, United States
CATEGORIES:Free,Movies at the Museum
ORGANIZER;CN="Dubuque Museum of Art":MAILTO:info@dbqart.org
END:VEVENT
BEGIN:VEVENT
DTSTART;TZID=America/Chicago:20180915T200000
DTEND;TZID=America/Chicago:20180915T213000
DTSTAMP:20260421T221340
CREATED:20180805T214019Z
LAST-MODIFIED:20180815T212706Z
UID:5364-1537041600-1537047000@archive.dbqart.org
SUMMARY:Movie at the Museum: Toy Story
DESCRIPTION:In partnership with US Bank\, DuMA presents Movie At The Museum with a screening of “Toy Story”. Bring a blanket\, grab some popcorn and settle in with family & friends to watch a free movie at Washington Park. \nToy Story (1995) 1h\, 21 minutes\nWoody (Tom Hanks)\, a good-hearted cowboy doll who belongs to a young boy named Andy (John Morris)\, sees his position as Andy’s favorite toy jeopardized when his parents buy him a Buzz Lightyear (Tim Allen) action figure. Even worse\, the arrogant Buzz thinks he’s a real spaceman on a mission to return to his home planet. When Andy’s family moves to a new house\, Woody and Buzz must escape the clutches of maladjusted neighbor Sid Phillips (Erik von Detten) and reunite with their boy.
URL:https://archive.dbqart.org/event/movie-at-the-museum-toy-story/
LOCATION:Dubuque Museum of Art\, 701 Locust St.\, Dubuque\, IA\, 52001\, United States
CATEGORIES:Events,Family friendly,Free,Movies at the Museum
END:VEVENT
BEGIN:VEVENT
DTSTART;TZID=America/Chicago:20170806T183000
DTEND;TZID=America/Chicago:20170806T220000
DTSTAMP:20260421T221340
CREATED:20170412T172329Z
LAST-MODIFIED:20170705T182245Z
UID:3319-1502044200-1502056800@archive.dbqart.org
SUMMARY:Movies at the Museum
DESCRIPTION:In partnership with US Bank\, DuMA presents Movies at the Museum.  Grab a blanket\, a bite to eat from the visiting food truck and settle in with friends & family to watch a free movie at Washington Park. Programming will start at 6:30 pm with the movie starting at dusk. Enjoy pre-show entertainment and free entrance to the museum and exhibits up until showtime! \n\nFriday\, June 30 – Night at the Museum (Adventure 2006) (1 hr 48 min runtime) (rated PG)\nFriday\, July 14 – Willy Wonka (Classic 1971) (1 hr 40 min runtime) (rated G)\nSunday\, August 6 – Beauty & The Beast – (Animated/1991 Version) (1 hr 24 min runtime) (rated G)\n\n 
URL:https://archive.dbqart.org/event/movies-at-the-museum-2017-08-06/
LOCATION:Dubuque Museum of Art\, 701 Locust St.\, Dubuque\, IA\, 52001\, United States
CATEGORIES:Events,Family friendly,Free,Movies at the Museum,Programs
ORGANIZER;CN="Dubuque Museum of Art":MAILTO:info@dbqart.org
END:VEVENT
BEGIN:VEVENT
DTSTART;TZID=America/Chicago:20170714T183000
DTEND;TZID=America/Chicago:20170714T223000
DTSTAMP:20260421T221340
CREATED:20170412T172329Z
LAST-MODIFIED:20170705T182348Z
UID:3318-1500057000-1500071400@archive.dbqart.org
SUMMARY:Movies at the Museum
DESCRIPTION:In partnership with US Bank\, DuMA presents Movies at the Museum. Grab a blanket\, a bite to eat from the visiting food truck and settle in with friends & family to watch a free movie at Washington Park. Programming will start at 6:30 pm with the movie starting at dusk. Enjoy pre-show entertainment and free entrance to the museum and exhibits up until showtime! \nJuly’s movie:  Willy Wonka (Classic 1971) (1 hr 40 min runtime) (rated G) \n 
URL:https://archive.dbqart.org/event/movies-at-the-museum-2017-07-14/
LOCATION:Dubuque Museum of Art\, 701 Locust St.\, Dubuque\, IA\, 52001\, United States
CATEGORIES:Events,Family friendly,Free,Movies at the Museum,Programs
ORGANIZER;CN="Dubuque Museum of Art":MAILTO:info@dbqart.org
END:VEVENT
BEGIN:VEVENT
DTSTART;TZID=America/Chicago:20170630T183000
DTEND;TZID=America/Chicago:20170630T220000
DTSTAMP:20260421T221340
CREATED:20170412T172329Z
LAST-MODIFIED:20170412T172329Z
UID:3316-1498847400-1498860000@archive.dbqart.org
SUMMARY:Movies at the Museum
DESCRIPTION:In partnership with US Bank\, DuMA presents Movies at the Museum.  Grab a blanket\, a bite to eat from the visiting food truck and settle in with friends & family to watch a free movie at Washington Park. Programing will start at 6:30 pm with the movie starting at dusk. \n\nFriday\, June 30 – Night at the Museum (Adventure)\nFriday\, July 14 – Willy Wonka (Classic)\nSunday\, August 6 – Beauty & The Beast – (Animated/1991 Version)\n\n 
URL:https://archive.dbqart.org/event/movies-at-the-museum/
LOCATION:Dubuque Museum of Art\, 701 Locust St.\, Dubuque\, IA\, 52001\, United States
CATEGORIES:Events,Family friendly,Free,Movies at the Museum,Programs
ORGANIZER;CN="Dubuque Museum of Art":MAILTO:info@dbqart.org
END:VEVENT
END:VCALENDAR