BEGIN:VCALENDAR
VERSION:2.0
PRODID:-//Dubuque Museum of Art - ECPv6.15.20//NONSGML v1.0//EN
CALSCALE:GREGORIAN
METHOD:PUBLISH
X-ORIGINAL-URL:https://archive.dbqart.org
X-WR-CALDESC:Events for Dubuque Museum of Art
REFRESH-INTERVAL;VALUE=DURATION:PT1H
X-Robots-Tag:noindex
X-PUBLISHED-TTL:PT1H
BEGIN:VTIMEZONE
TZID:America/Chicago
BEGIN:DAYLIGHT
TZOFFSETFROM:-0600
TZOFFSETTO:-0500
TZNAME:CDT
DTSTART:20140309T080000
END:DAYLIGHT
BEGIN:STANDARD
TZOFFSETFROM:-0500
TZOFFSETTO:-0600
TZNAME:CST
DTSTART:20141102T070000
END:STANDARD
BEGIN:DAYLIGHT
TZOFFSETFROM:-0600
TZOFFSETTO:-0500
TZNAME:CDT
DTSTART:20150308T080000
END:DAYLIGHT
BEGIN:STANDARD
TZOFFSETFROM:-0500
TZOFFSETTO:-0600
TZNAME:CST
DTSTART:20151101T070000
END:STANDARD
BEGIN:DAYLIGHT
TZOFFSETFROM:-0600
TZOFFSETTO:-0500
TZNAME:CDT
DTSTART:20160313T080000
END:DAYLIGHT
BEGIN:STANDARD
TZOFFSETFROM:-0500
TZOFFSETTO:-0600
TZNAME:CST
DTSTART:20161106T070000
END:STANDARD
BEGIN:DAYLIGHT
TZOFFSETFROM:-0600
TZOFFSETTO:-0500
TZNAME:CDT
DTSTART:20170312T080000
END:DAYLIGHT
BEGIN:STANDARD
TZOFFSETFROM:-0500
TZOFFSETTO:-0600
TZNAME:CST
DTSTART:20171105T070000
END:STANDARD
BEGIN:DAYLIGHT
TZOFFSETFROM:-0600
TZOFFSETTO:-0500
TZNAME:CDT
DTSTART:20180311T080000
END:DAYLIGHT
BEGIN:STANDARD
TZOFFSETFROM:-0500
TZOFFSETTO:-0600
TZNAME:CST
DTSTART:20181104T070000
END:STANDARD
END:VTIMEZONE
BEGIN:VTIMEZONE
TZID:America/Chicago
BEGIN:DAYLIGHT
TZOFFSETFROM:-0600
TZOFFSETTO:-0500
TZNAME:CDT
DTSTART:20160313T080000
END:DAYLIGHT
BEGIN:STANDARD
TZOFFSETFROM:-0500
TZOFFSETTO:-0600
TZNAME:CST
DTSTART:20161106T070000
END:STANDARD
BEGIN:DAYLIGHT
TZOFFSETFROM:-0600
TZOFFSETTO:-0500
TZNAME:CDT
DTSTART:20170312T080000
END:DAYLIGHT
BEGIN:STANDARD
TZOFFSETFROM:-0500
TZOFFSETTO:-0600
TZNAME:CST
DTSTART:20171105T070000
END:STANDARD
BEGIN:DAYLIGHT
TZOFFSETFROM:-0600
TZOFFSETTO:-0500
TZNAME:CDT
DTSTART:20180311T080000
END:DAYLIGHT
BEGIN:STANDARD
TZOFFSETFROM:-0500
TZOFFSETTO:-0600
TZNAME:CST
DTSTART:20181104T070000
END:STANDARD
END:VTIMEZONE
BEGIN:VEVENT
DTSTART;TZID=America/Chicago:20171116T120000
DTEND;TZID=America/Chicago:20171116T130000
DTSTAMP:20260422T062041
CREATED:20170811T211805Z
LAST-MODIFIED:20171101T174039Z
UID:3968-1510833600-1510837200@archive.dbqart.org
SUMMARY:archiTREK (New Series)
DESCRIPTION:DuMA and Heritage Works partner to present a series of walking tours of Dubuque architecture designed to provide insights into Dubuque’s historic buildings. \nWalk and Talk are 45-60 minute lunchtime tours in downtown Dubuque including the Historic Federal Building\, the Roshek building\, US Bank and the Grand Opera House. Tours will focus on form and function with interior/exterior interpretation. \nTours begin at the designated locations listed below\, they do NOT meet at the Museum beforehand!\n\nONLINE REGISTRATION FORM (CLICK HERE)\nTOUR SCHEDULE: \n\nWalk & Talk – Thursday\, September 21\, 2017\, Noon\, Meet at Federal Building-U.S. Post Office\, 350 W. 6th Street\nAle & Architecture – Thursday\, October 19\, 2017\, 6:00 PM\, Meet at Historic Lower Main Street\nWalk & Talk –  Thursday\, November 16\, 2017\, Noon\, Meet at the Grand Opera House\, 135 W. 8th Street\nAle & Architecture – Thursday\, December 7\, 6:00 PM\, Meet at Historic Upper Main Street\n\nFEE FOR ARCHITREK TOURS: \nWalk & Talk – $5 suggested donation \nAle & Architecture – $15 ($10 DuMA Members) \nCall the Museum at 563-557-1851 if you have any questions\, or if you are unable to use the online form above.
URL:https://archive.dbqart.org/event/architrek-new-series-2017-09-21-2017-11-16/
LOCATION:IA
CATEGORIES:archiTREK,Lunch & Learn,Programs,Registration required
ORGANIZER;CN="Heritage Works Dubuque":MAILTO:info@heritageworksdbq.com
END:VEVENT
BEGIN:VEVENT
DTSTART;TZID=America/Chicago:20171028T103000
DTEND;TZID=America/Chicago:20171028T130000
DTSTAMP:20260422T062041
CREATED:20170924T225935Z
LAST-MODIFIED:20171004T224927Z
UID:4108-1509186600-1509195600@archive.dbqart.org
SUMMARY:smART Saturdays: Halloween Mask Making
DESCRIPTION:Expect the Unexpected with these “out of the box” art encounters for young artists ages 6-16. Held on the first and third Saturday of the month from 10:30 AM – 1:00 PM (unless otherwise specified) the series will explore a variety of art approaches guaranteed to “get your nerd out!” \nAll supplies furnished unless specified\, an additional materials fee may be required for certain projects. Come dressed to mess. \nFee is $10 per child ($5 for members) For the 6-8 year old age group\, please plan on having a parent or caregiver attend. \nFor more information and to register online\, click HERE \nQuestions? Please contact Margaret Buhr\, Director of Education\, at mbuhr@dbqart.org or by calling 563-557-1851 Tuesday thru Friday. \nOCTOBER: \nMask Making and Spooky Special Effects\nSaturday October 28th\n10:30 AM – 1:00 PM\nFor ages 10-16 \nFee: $10 per attendee ($5 members) plus $5 materials charge \nStudents will participate in Halloween mask making\, encouraging unique ideas and featuring instruction on creative techniques and out-of-the-box materials. Examples and materials demonstrations will be provided. Come dressed to get messy! \nNote: No dangerous or harmful materials will be used\, but it is especially important to mention any known allergies or skin sensitivities for those attending. Multiple choices of technique and material will be provided to suit the needs and experience levels of different artists.
URL:https://archive.dbqart.org/event/smart-saturdays-october-mask-making-and-spooky-special-effects-2017-10-28/
LOCATION:Dubuque Museum of Art\, 701 Locust St.\, Dubuque\, IA\, 52001\, United States
CATEGORIES:Classes,Registration required,SMART Saturdays
END:VEVENT
BEGIN:VEVENT
DTSTART;TZID=America/Chicago:20171022T113000
DTEND;TZID=America/Chicago:20171022T130000
DTSTAMP:20260422T062041
CREATED:20170712T174859Z
LAST-MODIFIED:20170726T190412Z
UID:3727-1508671800-1508677200@archive.dbqart.org
SUMMARY:FALL DINING SERIES: HAITIAN BRUNCH
DESCRIPTION:HAITIAN BRUNCH\nSUNDAY\, OCTOBER 22\n11:30 AM – $35.00\nEnjoy an authentic Haitian meal made by Anderson Sainci’s mother\, Marie Vetus that compliments Gallery C’s contemporary Haitian art exhibition.\n \n\nMake Your Reservation Today by Clicking Here\nRESERVATIONS ARE LIMITED. PURCHASE TICKETS ONLINE OR BY CALLING 563-557-1851\nYou may contact Amethyst Barron at abarron@dbqart.org to reserve your spot. \n 
URL:https://archive.dbqart.org/event/fall-dining-series-haitian-brunch/
LOCATION:IA
CATEGORIES:Events,Fall Dining Series,Registration required
END:VEVENT
BEGIN:VEVENT
DTSTART;TZID=America/Chicago:20170924T113000
DTEND;TZID=America/Chicago:20170924T130000
DTSTAMP:20260422T062041
CREATED:20170712T174451Z
LAST-MODIFIED:20170726T190526Z
UID:3724-1506252600-1506258000@archive.dbqart.org
SUMMARY:FALL DINING SERIES: SLOW DOWN BRUNCH
DESCRIPTION:SLOW DOWN BRUNCH\nSUNDAY\, SEPTEMBER 24\n11:30 AM – $35.00\nEnjoy a laid back meal of southern food provided by the Flatted Fifth Blues and BBQ with the blues/folk musical stylings of Iowa City musician Dave Moore.\n \n\nMake Your Reservation Today by Clicking Here\nRESERVATIONS ARE LIMITED. PURCHASE TICKETS ONLINE OR BY CALLING 563-557-1851\nYou may contact Amethyst Barron at abarron@dbqart.org to reserve your spot. \nThe Fall Dining Series continues on October 22
URL:https://archive.dbqart.org/event/3724/
LOCATION:Dubuque Museum of Art\, 701 Locust St.\, Dubuque\, IA\, 52001\, United States
CATEGORIES:Events,Fall Dining Series,Registration required
END:VEVENT
BEGIN:VEVENT
DTSTART;TZID=America/Chicago:20170916T103000
DTEND;TZID=America/Chicago:20170916T120000
DTSTAMP:20260422T062041
CREATED:20170802T195257Z
LAST-MODIFIED:20170816T195651Z
UID:3905-1505557800-1505563200@archive.dbqart.org
SUMMARY:smART Saturdays: Pet Rocks and Moss Painting
DESCRIPTION:Expect the Unexpected with these “out of the box” art encounters for young artists ages 6-16. Held on the first and third Saturday of the month from 10:30 AM – 12:00 PM (unless otherwise specified) the series will explore a variety of art approaches guaranteed to “get your nerd out!” \nAll supplies furnished unless specified\, an additional materials fee may be required for certain projects. Come dressed to mess. \nFee is $10 per child ($5 for members) For the 6-8 year old age group\, please plan on having a parent or caregiver attend. \nFor more information and to register online\, click HERE \nQuestions? Please contact Margaret Buhr\, Director of Education\, at mbuhr@dbqart.org or by calling 563-557-1851 Tuesday thru Friday. \nSeptember 16th: \nAge group: 6-8 year old (please have a parent or caretaker attend) \nProject: Pet rocks and moss painting.
URL:https://archive.dbqart.org/event/smart-saturdays-pet-rocks-and-moss-painting/
LOCATION:IA
CATEGORIES:Classes,Family friendly,Registration required,SMART Saturdays
ORGANIZER;CN="Dubuque Museum of Art":MAILTO:info@dbqart.org
END:VEVENT
BEGIN:VEVENT
DTSTART;TZID=America/Chicago:20170914T121500
DTEND;TZID=America/Chicago:20170914T130000
DTSTAMP:20260422T062041
CREATED:20170811T211805Z
LAST-MODIFIED:20170824T192626Z
UID:3963-1505391300-1505394000@archive.dbqart.org
SUMMARY:archiTREK (Lunch and Learn)
DESCRIPTION:DuMA and Heritage Works partner to present a series of walking tours of Dubuque architecture. \nWalk and Talk and Ale and Architecture will provide insights into Dubuque’s historic buildings. \nWalk and Talk are 45-60 minute lunchtime tours in downtown Dubuque including the Historic Federal Building\, the Roshek building\, US Bank and the Grand Opera House. Tours will focus on form and function with interior/exterior interpretation. \nAle and Architecture consists of 90-120 minute walking tours of bars in the historic upper and lower Main Streets. Patrons will make 2-3 stops in bars along the route and can purchase their own drinks at each stop. Tours will be given by Jason Neises\, Vice Chair of the Dubuque County Preservation Committee. \nThe ArchiTREK series will kick off with a free Lunch and Learn talk on Thursday\, September 14 at 12:15PM at DuMA.  \nONLINE REGISTRATION FORM (CLICK HERE)\nCall the Museum at 563-557-1851 if you have any questions\, or if you are unable to use the online form above. \nTOUR SCHEDULE: \n\nLunch & Learn – Thursday\, September 14\, 2017\, Dubuque Museum of Art\, 12:15 PM. Feel free to bring a sack lunch!\nWalk & Talk – Thursday\, September 21\, 2017\, Noon\, Federal Building-U.S. Post Office\, 350 W. 6th Street\nAle & Architecture – Thursday\, October 19\, 2017\, 6:00 PM\, Historic Lower Main Street\nWalk & Talk –  Thursday\, November 16\, 2017\, Noon\, Grand Opera House\, 135 W. 8th Street\nAle & Architecture – Thursday\, December 7\, 6:00 PM\, Historic Upper Main Street\n\nFEE FOR ARCHITREK TOURS: \nLunch and Learn – Free! \nWalk & Talk – $5 suggested donation \nAle & Architecture – $15 ($10 DuMA Members)
URL:https://archive.dbqart.org/event/architrek-new-series/
LOCATION:Dubuque Museum of Art\, 701 Locust St.\, Dubuque\, IA\, 52001\, United States
CATEGORIES:archiTREK,Lunch & Learn,Programs,Registration required
END:VEVENT
BEGIN:VEVENT
DTSTART;TZID=America/Chicago:20170819T183000
DTEND;TZID=America/Chicago:20170819T200000
DTSTAMP:20260422T062041
CREATED:20170607T191130Z
LAST-MODIFIED:20170726T190703Z
UID:3455-1503167400-1503172800@archive.dbqart.org
SUMMARY:Fall Dining Series: MUSE'S MENU
DESCRIPTION:MUSE’S MENU\nSATURDAY\, AUGUST 19\n6:30 – $60.00\nFeast on a multi-course menu\, featuring pairings of art and cuisine crafted by Angela and Carolyn from Life’s a Feast\, inspired by the museum’s collections.\n \n  \n\nMake Your Reservation Today by Clicking Here\nRESERVATIONS ARE LIMITED. PURCHASE TICKETS ONLINE OR BY CALLING 563-557-1851\nYou may contact Amethyst Barron at abarron@dbqart.org to reserve your spot. \nThe Fall Dining Series continues on September 24 and October 22. \n\n 
URL:https://archive.dbqart.org/event/fall-dining-series/
LOCATION:Dubuque Museum of Art\, 701 Locust St.\, Dubuque\, IA\, 52001\, United States
CATEGORIES:Events,Fall Dining Series,Registration required
ORGANIZER;CN="Dubuque Museum of Art":MAILTO:info@dbqart.org
END:VEVENT
BEGIN:VEVENT
DTSTART;TZID=America/Chicago:20170710T093000
DTEND;TZID=America/Chicago:20170714T110000
DTSTAMP:20260422T062041
CREATED:20170607T172913Z
LAST-MODIFIED:20170702T212445Z
UID:3429-1499679000-1500030000@archive.dbqart.org
SUMMARY:Summer Art Camp Ages 13-16
DESCRIPTION:Ages 6-8: June 19-23\, 9:30-11 AM\nAges 9-12: June 26-30\, 9:30-11 AM\nAges 13-16: July 10-14\, 9:30-11 AM \nInspired by the exhibitions at the Dubuque Museum of Art\, students will explore a variety of mediums including drawing\, painting\, mixed media and 3-dimensional work. \nYoung artists will explore the Museum’s galleries for inspiration and head to the studio to create their own works of art in a variety of mediums. \nThe Museum’s educational philosophy focuses on experimentation\, problem solving and “thinking outside the box”. Students create art in a safe and positive environment\, finding inspiration in the Museum’s exhibitions and collections. Originality and self-expression is encouraged. \nInstructors: Margaret Buhr and Caitlin Donald. \nLimit: 15 students per age group\nCost: $45 for Museum Members and $50 for Non-Members\nAll supplies furnished. \nDeadline for Registration Past/Contact Margi at mbuhr@dbqart.org
URL:https://archive.dbqart.org/event/summer-art-camp-ages-13-16/
LOCATION:Dubuque Museum of Art\, 701 Locust St.\, Dubuque\, IA\, 52001\, United States
CATEGORIES:Classes,Education,Registration required,Summer Art Program
ORGANIZER;CN="Dubuque Museum of Art":MAILTO:info@dbqart.org
END:VEVENT
BEGIN:VEVENT
DTSTART;TZID=America/Chicago:20170626T093000
DTEND;TZID=America/Chicago:20170630T110000
DTSTAMP:20260422T062041
CREATED:20170607T172347Z
LAST-MODIFIED:20170607T172347Z
UID:3427-1498469400-1498820400@archive.dbqart.org
SUMMARY:Summer Art Camp Ages 9-12
DESCRIPTION:Ages 6-8: June 19-23\, 9:30-11 AM\nAges 9-12: June 26-30\, 9:30-11 AM\nAges 13-16: July 10-14\, 9:30-11 AM \nInspired by the exhibitions at the Dubuque Museum of Art\, students will explore a variety of mediums including drawing\, painting\, mixed media and 3-dimensional work. \nLimit: 15 students per age group\nCost: $45 for Museum Members and $50 for Non-Members\nAll supplies furnished. \nClick here for more info or to register
URL:https://archive.dbqart.org/event/summer-art-camp-ages-9-12/
LOCATION:Dubuque Museum of Art\, 701 Locust St.\, Dubuque\, IA\, 52001\, United States
CATEGORIES:Classes,Education,Registration required,Summer Art Program
ORGANIZER;CN="Dubuque Museum of Art":MAILTO:info@dbqart.org
END:VEVENT
BEGIN:VEVENT
DTSTART;TZID=America/Chicago:20170619T093000
DTEND;TZID=America/Chicago:20170623T110000
DTSTAMP:20260422T062041
CREATED:20170412T170733Z
LAST-MODIFIED:20170607T172028Z
UID:3302-1497864600-1498215600@archive.dbqart.org
SUMMARY:Summer Art Camp Ages 6-8
DESCRIPTION:Ages 6-8: June 19-23\, 9:30-11 AM\nAges 9-12: June 26-30\, 9:30-11 AM\nAges 13-16: July 10-14\, 9:30-11 AM \nInspired by the exhibitions at the Dubuque Museum of Art\, students will explore a variety of mediums including drawing\, painting\, mixed media and 3-dimensional work. \nLimit: 15 students per age group\nCost: $45 for Museum Members and $50 for Non-Members\nAll supplies furnished. \nClick here for more info or to register
URL:https://archive.dbqart.org/event/summer-art-camp/
LOCATION:Dubuque Museum of Art\, 701 Locust St.\, Dubuque\, IA\, 52001\, United States
CATEGORIES:Classes,Registration required,Summer Art Program
ORGANIZER;CN="Dubuque Museum of Art":MAILTO:info@dbqart.org
END:VEVENT
BEGIN:VEVENT
DTSTART;TZID=America/Chicago:20170524T180000
DTEND;TZID=America/Chicago:20170524T200000
DTSTAMP:20260422T062041
CREATED:20170517T173324Z
LAST-MODIFIED:20170524T193629Z
UID:3381-1495648800-1495656000@archive.dbqart.org
SUMMARY:Annual Member's Meeting
DESCRIPTION:Come see what’s NEW at your art museum!\n\nNEW Family Attraction: View the remodeled Glab Family Art Studio\nNEW Exhibition: Take a guided tour of The Artist Revealed: Two Centuries of Portraits from Cezanne to Dylan\nPreview of 2017 DuMA Biennial (opens May 27)\nVote for slate of Board Officers\n\nLight refreshments will be served. FREE and open to everyone\, including DuMA members\, prospective members and guests.\nRSVP Today (Deadline May 20\, 2017)
URL:https://archive.dbqart.org/event/annual-members-meeting/
LOCATION:Dubuque Museum of Art\, 701 Locust St.\, Dubuque\, IA\, 52001\, United States
CATEGORIES:Events,Free,Free for Members,Registration required
ORGANIZER;CN="Dubuque Museum of Art":MAILTO:info@dbqart.org
END:VEVENT
BEGIN:VEVENT
DTSTART;TZID=America/Chicago:20170314T090000
DTEND;TZID=America/Chicago:20170314T093000
DTSTAMP:20260422T062041
CREATED:20160122T212035Z
LAST-MODIFIED:20170215T200525Z
UID:2645-1489482000-1489483800@archive.dbqart.org
SUMMARY:Baby & Me Tours*
DESCRIPTION:Babies and their caregivers are welcome to participate in a 30 minute tour of Museum exhibitions. Baby + Me tours are offered every 2nd and 4th Tuesday of the month. \n*advance registration required
URL:https://archive.dbqart.org/event/baby-me-tours-2-2017-03-14/
LOCATION:Dubuque Museum of Art\, 701 Locust St.\, Dubuque\, IA\, 52001\, United States
CATEGORIES:Family friendly,Free,Registration required
ORGANIZER;CN="Dubuque Museum of Art":MAILTO:info@dbqart.org
END:VEVENT
BEGIN:VEVENT
DTSTART;TZID=America/Chicago:20170313T090000
DTEND;TZID=America/Chicago:20170317T103000
DTSTAMP:20260422T062041
CREATED:20170125T192105Z
LAST-MODIFIED:20170222T164459Z
UID:2946-1489395600-1489746600@archive.dbqart.org
SUMMARY:SPRING BREAK ART ESCAPE
DESCRIPTION:Looking for a creative way to fill the spring break week? Young artists will explore the Museum’s galleries for inspiration and head to the studio to create their own works of art in a variety of mediums. \nInstructor: Hana Velde. All supplies included. Please dress for mess. \nGrades K-2: March 16-March 17\, 9-10:30 am Grades: 3-5: March 13-15\, 9-10:30 am \nRegistration is now only $35 ($30 DuMA members) thanks to support from Black Hills Energy! \nTo register call DuMA at 563-557-1851 or visit www.dbqart.com. Deadline to register: March 8. \nClick here to register now!
URL:https://archive.dbqart.org/event/spring-break-art-escape/
LOCATION:Dubuque Museum of Art\, 701 Locust St.\, Dubuque\, IA\, 52001\, United States
CATEGORIES:Classes,Education,Family friendly,Registration required
END:VEVENT
BEGIN:VEVENT
DTSTART;TZID=America/Chicago:20170228T090000
DTEND;TZID=America/Chicago:20170228T093000
DTSTAMP:20260422T062041
CREATED:20160122T212035Z
LAST-MODIFIED:20200629T233516Z
UID:1969-1488272400-1488274200@archive.dbqart.org
SUMMARY:Baby & Me Tours
DESCRIPTION:NOTICE: All in person events are cancelled until further notice due to COVID-19. We apologize for the inconvenience.\nBabies and their caregivers are welcome to participate in a 30-minute tour of the Museum exhibitions\, focused on shapes\, colors and textures. Baby and Me tours are offered every month. \nAdvance registration required. Register by calling the museum at 563-557-1851 \n 
URL:https://archive.dbqart.org/event/baby-me-tours-2/
LOCATION:Dubuque Museum of Art\, 701 Locust St.\, Dubuque\, IA\, 52001\, United States
CATEGORIES:Family friendly,Free,Registration required
ORGANIZER;CN="Dubuque Museum of Art":MAILTO:info@dbqart.org
END:VEVENT
BEGIN:VEVENT
DTSTART;TZID=America/Chicago:20160308T090000
DTEND;TZID=America/Chicago:20160308T093000
DTSTAMP:20260422T062041
CREATED:20151006T012309Z
LAST-MODIFIED:20160122T211710Z
UID:1659-1457427600-1457429400@archive.dbqart.org
SUMMARY:Baby + Me Tours*
DESCRIPTION:Babies and their caregivers are welcome to participate in a 30 minute tour of Museum exhibitions. Baby + Me tours are offered the 2nd and 4th Tuesday of the month through March 15\, 2016. \n*advance registration required
URL:https://archive.dbqart.org/event/baby-me-tours-2016-03-01/
LOCATION:Dubuque Museum of Art\, 701 Locust St.\, Dubuque\, IA\, 52001\, United States
CATEGORIES:Family friendly,Free,Programs,Registration required
ORGANIZER;CN="Dubuque Museum of Art":MAILTO:info@dbqart.org
END:VEVENT
BEGIN:VEVENT
DTSTART;TZID=America/Chicago:20160306T130000
DTEND;TZID=America/Chicago:20160306T150000
DTSTAMP:20260422T062041
CREATED:20160118T201835Z
LAST-MODIFIED:20160224T161242Z
UID:1963-1457269200-1457276400@archive.dbqart.org
SUMMARY:Mother and Daughter Brunch at DUMA
DESCRIPTION:Join us for an artful brunch and tea party inspired by the mother-daughter relationship of current exhibiting artists\, Janet and Kathy Ruttenberg. Invite your mother\, daughter\, grandmother – or someone who’s always been like a mother to you – to the museum for a memorable afternoon featuring: \n• Mimosas\, coffee\, and tea. \n• Pastries and a light lunch. \n• A tour of the exhibition Janet Ruttenberg: Figure in the Landscape/Kathy Ruttenberg: Landscape in the Figure. \n• Make a memory and a photographic souvenir in the exhibit. \nRegistration required. Register online here. \n(Photo by Matt Jones)
URL:https://archive.dbqart.org/event/mother-daughter-day/
LOCATION:Dubuque Museum of Art\, 701 Locust St.\, Dubuque\, IA\, 52001\, United States
CATEGORIES:Events,Family friendly,Registration required
ATTACH;FMTTYPE=image/jpeg:https://archive.dbqart.org/wp-content/uploads/2016/01/Ruttb.jpg
ORGANIZER;CN="Dubuque Museum of Art":MAILTO:info@dbqart.org
END:VEVENT
BEGIN:VEVENT
DTSTART;TZID=America/Chicago:20160223T090000
DTEND;TZID=America/Chicago:20160223T093000
DTSTAMP:20260422T062041
CREATED:20151006T012309Z
LAST-MODIFIED:20160122T211544Z
UID:1658-1456218000-1456219800@archive.dbqart.org
SUMMARY:Baby + Me Tours*
DESCRIPTION:Babies and their caregivers are welcome to participate in a 30 minute tour of Museum exhibitions. Baby + Me tours are offered the 2nd and 4th Tuesday of the month through March 15\, 2016. \n*advance registration required
URL:https://archive.dbqart.org/event/baby-me-tours-2016-02-16/
LOCATION:Dubuque Museum of Art\, 701 Locust St.\, Dubuque\, IA\, 52001\, United States
CATEGORIES:Family friendly,Free,Programs,Registration required
ORGANIZER;CN="Dubuque Museum of Art":MAILTO:info@dbqart.org
END:VEVENT
BEGIN:VEVENT
DTSTART;TZID=America/Chicago:20160209T090000
DTEND;TZID=America/Chicago:20160209T093000
DTSTAMP:20260422T062041
CREATED:20151006T012309Z
LAST-MODIFIED:20160122T211404Z
UID:1657-1455008400-1455010200@archive.dbqart.org
SUMMARY:Baby + Me Tours*
DESCRIPTION:Babies and their caregivers are welcome to participate in a 30 minute tour of Museum exhibitions. Baby + Me tours are offered the 2nd and 4th Tuesday of the month through March 15\, 2016. \n*advance registration required
URL:https://archive.dbqart.org/event/baby-me-tours-2016-02-02/
LOCATION:Dubuque Museum of Art\, 701 Locust St.\, Dubuque\, IA\, 52001\, United States
CATEGORIES:Family friendly,Free,Programs,Registration required
ORGANIZER;CN="Dubuque Museum of Art":MAILTO:info@dbqart.org
END:VEVENT
BEGIN:VEVENT
DTSTART;TZID=America/Chicago:20151110T090000
DTEND;TZID=America/Chicago:20151110T093000
DTSTAMP:20260422T062041
CREATED:20151006T012309Z
LAST-MODIFIED:20151006T014511Z
UID:1651-1447146000-1447147800@archive.dbqart.org
SUMMARY:Baby + Me Tours*
DESCRIPTION:Babies and their caregivers are welcome to participate in a 30 minute tour of Museum exhibitions. Baby + Me tours are offered the 2nd and 4th Tuesday of the month through March 15\, 2016. \n*advance registration required
URL:https://archive.dbqart.org/event/baby-me-tours/
LOCATION:Dubuque Museum of Art\, 701 Locust St.\, Dubuque\, IA\, 52001\, United States
CATEGORIES:Family friendly,Free,Programs,Registration required
ORGANIZER;CN="Dubuque Museum of Art":MAILTO:info@dbqart.org
END:VEVENT
BEGIN:VEVENT
DTSTART;TZID=America/Chicago:20151107T100000
DTEND;TZID=America/Chicago:20151107T100000
DTSTAMP:20260422T062041
CREATED:20151006T012956Z
LAST-MODIFIED:20151006T014616Z
UID:1660-1446890400-1446890400@archive.dbqart.org
SUMMARY:Coffee + Art*
DESCRIPTION:Join Director David Schmitz for a caffeinated tour of the exhibits. \n*advance registration required
URL:https://archive.dbqart.org/event/coffee-art/
LOCATION:Dubuque Museum of Art\, 701 Locust St.\, Dubuque\, IA\, 52001\, United States
CATEGORIES:Free,Programs,Registration required
ORGANIZER;CN="Dubuque Museum of Art":MAILTO:info@dbqart.org
END:VEVENT
END:VCALENDAR