BEGIN:VCALENDAR
VERSION:2.0
PRODID:-//Dubuque Museum of Art - ECPv6.15.20//NONSGML v1.0//EN
CALSCALE:GREGORIAN
METHOD:PUBLISH
X-WR-CALNAME:Dubuque Museum of Art
X-ORIGINAL-URL:https://archive.dbqart.org
X-WR-CALDESC:Events for Dubuque Museum of Art
REFRESH-INTERVAL;VALUE=DURATION:PT1H
X-Robots-Tag:noindex
X-PUBLISHED-TTL:PT1H
BEGIN:VTIMEZONE
TZID:America/Chicago
BEGIN:DAYLIGHT
TZOFFSETFROM:-0600
TZOFFSETTO:-0500
TZNAME:CDT
DTSTART:20220313T080000
END:DAYLIGHT
BEGIN:STANDARD
TZOFFSETFROM:-0500
TZOFFSETTO:-0600
TZNAME:CST
DTSTART:20221106T070000
END:STANDARD
BEGIN:DAYLIGHT
TZOFFSETFROM:-0600
TZOFFSETTO:-0500
TZNAME:CDT
DTSTART:20230312T080000
END:DAYLIGHT
BEGIN:STANDARD
TZOFFSETFROM:-0500
TZOFFSETTO:-0600
TZNAME:CST
DTSTART:20231105T070000
END:STANDARD
BEGIN:DAYLIGHT
TZOFFSETFROM:-0600
TZOFFSETTO:-0500
TZNAME:CDT
DTSTART:20240310T080000
END:DAYLIGHT
BEGIN:STANDARD
TZOFFSETFROM:-0500
TZOFFSETTO:-0600
TZNAME:CST
DTSTART:20241103T070000
END:STANDARD
BEGIN:DAYLIGHT
TZOFFSETFROM:-0600
TZOFFSETTO:-0500
TZNAME:CDT
DTSTART:20250309T080000
END:DAYLIGHT
BEGIN:STANDARD
TZOFFSETFROM:-0500
TZOFFSETTO:-0600
TZNAME:CST
DTSTART:20251102T070000
END:STANDARD
BEGIN:DAYLIGHT
TZOFFSETFROM:-0600
TZOFFSETTO:-0500
TZNAME:CDT
DTSTART:20260308T080000
END:DAYLIGHT
BEGIN:STANDARD
TZOFFSETFROM:-0500
TZOFFSETTO:-0600
TZNAME:CST
DTSTART:20261101T070000
END:STANDARD
END:VTIMEZONE
BEGIN:VEVENT
DTSTART;TZID=America/Chicago:20251011T130000
DTEND;TZID=America/Chicago:20251011T190000
DTSTAMP:20260421T171442
CREATED:20250716T215631Z
LAST-MODIFIED:20250716T215631Z
UID:17891-1760187600-1760209200@archive.dbqart.org
SUMMARY:Dubuque Latinx Fiesta 2025
DESCRIPTION:October 11 is opening day at the Dupaco Voices Building\, and DuMA is partnering with Latinx Fiesta to transform Washington and E. 10th Streets into a vibrant street festival featuring live music\, dance\, food vendors\, artisan booths\, and free family activities. \nInside the Dupaco Voices Building\, explore a Latinx art exhibition with works displayed throughout the first floor. The Museum’s temporary location will offer visitors a space to experience the art\, connect with the community\, and reflect on the diverse voices and stories expressed through the exhibition. \n \n 
URL:https://archive.dbqart.org/event/dubuque-latinx-fiesta-2025/
LOCATION:Voices Dupaco Building\, 1000 Jackson Street\, Dubuque\, IA\, 52001\, United States
CATEGORIES:Community Day,Events,Family friendly,Save the Date
ORGANIZER;CN="Dubuque Museum of Art":MAILTO:info@dbqart.org
END:VEVENT
BEGIN:VEVENT
DTSTART;VALUE=DATE:20250926
DTEND;VALUE=DATE:20250927
DTSTAMP:20260421T171442
CREATED:20250402T215053Z
LAST-MODIFIED:20250822T040212Z
UID:17487-1758844800-1758931199@archive.dbqart.org
SUMMARY:DuMA Gala 2025
DESCRIPTION:Join us for an evening of vibrant creativity honoring our past\, celebrating our present\, and looking beyond to a bright future \nFriday\, September 26\, 2025\nDupaco Voices Building – 1000 Jackson St. \nLearn More \n\n\n\n\n \n\n\n 
URL:https://archive.dbqart.org/event/save-the-date-duma-gala-2025/
LOCATION:Voices Dupaco Building\, 1000 Jackson Street\, Dubuque\, IA\, 52001\, United States
CATEGORIES:Events,Fundraiser,Save the Date
END:VEVENT
BEGIN:VEVENT
DTSTART;TZID=America/Chicago:20250723T183000
DTEND;TZID=America/Chicago:20250723T203000
DTSTAMP:20260421T171443
CREATED:20250129T225043Z
LAST-MODIFIED:20250711T205143Z
UID:17161-1753295400-1753302600@archive.dbqart.org
SUMMARY:ANNUAL MEETING 2025
DESCRIPTION:Please join us at the Annual Meeting \nTour the construction of our temporary home in the Dupaco Voices Building\, made possible through the generous support of Dupaco Community Credit Union and Gronen. Preview progress on our new arts campus and discover the exciting year of exhibitions\, programs\, and events ahead. \nPlease RSVP by clicking here.
URL:https://archive.dbqart.org/event/annual-meeting-2025/
LOCATION:Voices Dupaco Building\, 1000 Jackson Street\, Dubuque\, IA\, 52001\, United States
CATEGORIES:Events,Free,Online,Registration required,Save the Date
END:VEVENT
BEGIN:VEVENT
DTSTART;TZID=America/Chicago:20250315T173000
DTEND;TZID=America/Chicago:20250315T203000
DTSTAMP:20260421T171443
CREATED:20250214T195554Z
LAST-MODIFIED:20250219T211900Z
UID:17199-1742059800-1742070600@archive.dbqart.org
SUMMARY:SAVE THE DATE: FUNDRAISER FOR NATHANIEL MORGAN MEMORIAL
DESCRIPTION:The Nathanial Morgan Committee will host a fundraising event at Voices Studios for the construction of a memorial to honor Morgan\, a free Black man active in the Dubuque Community in the 1830’s. \nContact: nathanielmorganmemorial@gmail.com
URL:https://archive.dbqart.org/event/save-the-date-fundraiser-for-nathaniel-morgan-memorial/
LOCATION:VOICES Studios\, 1585 Central Ave\, Dubuque\, IA\, 52001\, United States
CATEGORIES:Save the Date
ORGANIZER;CN="Dubuque Museum of Art":MAILTO:info@dbqart.org
END:VEVENT
BEGIN:VEVENT
DTSTART;VALUE=DATE:20250131
DTEND;VALUE=DATE:20250201
DTSTAMP:20260421T171443
CREATED:20241218T234940Z
LAST-MODIFIED:20241218T234940Z
UID:17104-1738281600-1738367999@archive.dbqart.org
SUMMARY:Call for artists: Winter Arts 2025 Snow Sculpting Festival
DESCRIPTION:Showcase your creativity in the heart of Dubuque. The City of Dubuque and the Dubuque Museum of Art invite professional\, amateur\, and collegiate teams across Iowa and the Greater Dubuque region to apply for the Winter Arts 2025 Snow Sculpting Festival\, happening Feb. 6-9\, 2025\, at Washington Park. \n\n\n\nPrizes:\n1st Prize: $1\,000\nPeople’s Choice Award: $300 (determined by community vote!) \n\n\n\nSubmission Deadline: Friday\, Jan. 31\, 2025\, by 5 PM. \nDetails and applications: cityofdubuque.org/winterarts
URL:https://archive.dbqart.org/event/call-for-artists-winter-arts-2025-snow-sculpting-festival/
LOCATION:Dubuque Museum of Art/Washington Park\, 699 Locust St\, Dubuque\, IA\, 52001\, United States
CATEGORIES:artist call,Events,Family friendly,Save the Date,Winter Arts
ORGANIZER;CN="City of Dubuque Arts and Cultural Affairs":MAILTO:dalleyne@cityofdubuque.org
END:VEVENT
BEGIN:VEVENT
DTSTART;VALUE=DATE:20241025
DTEND;VALUE=DATE:20241026
DTSTAMP:20260421T171443
CREATED:20240510T215131Z
LAST-MODIFIED:20241025T204134Z
UID:16387-1729814400-1729900799@archive.dbqart.org
SUMMARY:DuMA Gala 2024: Reflections
DESCRIPTION:Dubuque Museum of Art Gala 2024\nReflections\nFriday\, October 25\, 2024\nRoshek Building – 700 Locust St. \n\n\n\n\n\n\nJoin us in celebrating 150 creative years\nHosted by Emily Duehr and Ben Hoelscher \nTickets available at the door
URL:https://archive.dbqart.org/event/save-the-date-duma-gala-2024/
LOCATION:Roshek Building\, 700 Locust St\, Dubuque\, IA\, 52001\, United States
CATEGORIES:Events,Save the Date
ORGANIZER;CN="Dubuque Museum of Art":MAILTO:info@dbqart.org
END:VEVENT
BEGIN:VEVENT
DTSTART;VALUE=DATE:20240628
DTEND;VALUE=DATE:20240629
DTSTAMP:20260421T171443
CREATED:20240510T214934Z
LAST-MODIFIED:20240510T214934Z
UID:16385-1719532800-1719619199@archive.dbqart.org
SUMMARY:Save the Date: Collector’s Preview
DESCRIPTION:Includes a special donors’ preview of the Craft Invitational
URL:https://archive.dbqart.org/event/save-the-date-collectors-preview/
LOCATION:Dubuque Museum of Art\, 701 Locust St.\, Dubuque\, IA\, 52001\, United States
CATEGORIES:Events,exhibition opening,Save the Date
ORGANIZER;CN="Dubuque Museum of Art":MAILTO:info@dbqart.org
END:VEVENT
BEGIN:VEVENT
DTSTART;TZID=America/Chicago:20240607T170000
DTEND;TZID=America/Chicago:20240607T200000
DTSTAMP:20260421T171443
CREATED:20240306T215329Z
LAST-MODIFIED:20240531T232049Z
UID:16290-1717779600-1717790400@archive.dbqart.org
SUMMARY:First Friday: CSEI @Home Photovoice Art Exhibit Opening
DESCRIPTION:Photovoice is a a storytelling technique used to put the camera in the hands of people to explore and share their perspectives on a certain topic or subject. CSEI’s mission of addressing homelessness and housing instability is the reason we are focusing on the prompt of @Home. Home could be your favorite place to be or a place you wish you didn’t need to be\, it could be a community\, a pet\, or a person. The CSEI Photovoice wants to exhibit the various perspectives of what @Home means to our community. \n\n\nPhotographs will be on exhibit at the Dubuque Museum of Art from May 30th until July 21st. \nRSVP
URL:https://archive.dbqart.org/event/csei-home-photovoice-art-exhibit-opening/
LOCATION:Dubuque Museum of Art\, 701 Locust St.\, Dubuque\, IA\, 52001\, United States
CATEGORIES:exhibition opening,Save the Date
ORGANIZER;CN="Dubuque Museum of Art":MAILTO:info@dbqart.org
END:VEVENT
BEGIN:VEVENT
DTSTART;VALUE=DATE:20240413
DTEND;VALUE=DATE:20240415
DTSTAMP:20260421T171443
CREATED:20240301T233221Z
LAST-MODIFIED:20240308T220622Z
UID:16286-1712966400-1713139199@archive.dbqart.org
SUMMARY:PICTURING AMERICA'S PASTIME CONFERENCE
DESCRIPTION:Cedar Rapids-born\, former big leagues pitcher Cal Eldred will headline two days of programs celebrating the exhibition “Picturing America’s Pastime” at the Dubuque Museum of Art (DuMA) on April 13 and 14\, 2024 in Dubuque\, IA. \n\nAlso on April 13:\n– Casey-award winning author Phil S. Dixon will lead a conversation about the history of the Negro Leagues. Dixon sits on the National Advisory Board for the Negro Leagues Baseball Museum\, has authored seven books\, and interviewed over 500 players and their families.\n– Illinois-native and Major League Baseball Supervisor of Umpires Larry Young will share highlights from his career which included calling Nolan Ryan’s 5\,000th career strikeout against Rickey Henderson and the 1996 and 2003 World Series.\n– Author-historian John Liepa will host a discussion on the origins of baseball in Iowa and author-historian John T. Pregler will discuss his research on Dubuque’s role in the history of professional baseball.\n\nOn April 14\, the conference shifts to Dyersville for an exclusive program at the Field of Dreams movie site\, the “If You Build It Exhibit\,” and Dwier Brown’s Baseball Hall of Dreams. \n\n\nAll discussions will take place at the historic Hotel Julien Dubuque\, site of a series of meetings that led to the creation of the American League. \n\n\nAll-inclusive tickets are $25 for the general public and $15 for students and members of the Dubuque Museum of Art and the Society for American Baseball Research. Tickets include lunch and refreshments\, all talks\, and a tour of DuMA’s exhibitions “Picturing America’s Pastime: A Snapshot of the Photograph Collection at the National Baseball Hall of Fame and Museum” and “Picturing Dubuque Baseball curated by John T. Pregler.” \n\nTickets may be purchased at: https://dbqart.square.site/…/picturing-dubuque…/1881\n\nA full conference schedule may be found here: https://dbqart.org/wp-content/uploads/2024/03/Dubuque-Baseball-Classic-2024-Program-updated.pdf \n\nHotel Julien is offering a special rate of $149 plus tax to all attendees. Hotel rooms may be booked by calling (800)798-7098 and mentioning the Dubuque Museum of Art
URL:https://archive.dbqart.org/event/picturing-americas-pastime-conference/
LOCATION:Hotel Julien Dubuque\, 200 Main St\, Dubuque\, IA\, 52001\, United States
CATEGORIES:Events,Registration required,Save the Date
ORGANIZER;CN="Dubuque Museum of Art":MAILTO:info@dbqart.org
END:VEVENT
BEGIN:VEVENT
DTSTART;VALUE=DATE:20240218
DTEND;VALUE=DATE:20240219
DTSTAMP:20260421T171443
CREATED:20231220T221742Z
LAST-MODIFIED:20240212T233913Z
UID:16068-1708214400-1708300799@archive.dbqart.org
SUMMARY:CANCELLED: Winter Arts Snow Sculpting Festival 2024
DESCRIPTION:Spring temperatures have arrived early in Dubuque this year and Dubuque’s 2024 Winter Arts Snow Sculpting Festival has been canceled due to the warmer than normal temperatures.\n\nOn Sunday\, February 18th\, gather in Washington Park and celebrate our community’s creativity at the 7th Annual Winter Arts Snow Sculpting Festival. \nInspired by the Dubuque Symphony Orchestra’s performance\, families\, friends and first time sculptors are invited to sculpt their own masterpiece on the theme of love. Accompanied by music from the DSO\, stroll among giant snow creatures carved by teams competing for a slot at the U.S. National Championships. \nInside the Museum\, Senior High School curators invite you to the opening of the annual K-8 Student Art exhibition featuring work by over 200 students from neighborhood and school in town. Warm up with fried chicken from Birds and hot cocoa served by the Community Foundation’s youth philanthropy program\, the YAPPERS. \nWinter Arts Snow Sculpting Festival 2024 Dubuque Iowa
URL:https://archive.dbqart.org/event/winter-arts-snow-sculpting-festival-2024/
LOCATION:Dubuque Museum of Art/Washington Park\, 699 Locust St\, Dubuque\, IA\, 52001\, United States
CATEGORIES:artist call,Events,Family friendly,Save the Date,Winter Arts
ORGANIZER;CN="Dubuque Museum of Art":MAILTO:info@dbqart.org
END:VEVENT
BEGIN:VEVENT
DTSTART;TZID=America/Chicago:20230929T180000
DTEND;TZID=America/Chicago:20230929T210000
DTSTAMP:20260421T171443
CREATED:20230607T212624Z
LAST-MODIFIED:20230825T203645Z
UID:14791-1696010400-1696021200@archive.dbqart.org
SUMMARY:Dubuque Museum of Art Gala 2023
DESCRIPTION:CELEBRATE THE GROUNDBREAKERS OF OUR PAST AND PRESENT\nMEET THE ACCLAIMED ARCHITECTS WHO WILL DESIGN OUR FUTURE HOME\n\nHosted by Roux and Ian Loar \nBuy tickets: https://dbqart.ejoinme.org/…/tabid/1383928/Default.aspx \n\n\nChildcare for ages 4+ will be provided. \n\nThe gala directly supports DuMA’s mission to create engaging\nart experiences that excite\, inspire\, and connect our community.
URL:https://archive.dbqart.org/event/save-the-date-dubuque-museum-of-art-gala-2023/
LOCATION:Dubuque Museum of Art/Washington Park\, 699 Locust St\, Dubuque\, IA\, 52001\, United States
CATEGORIES:Events,Save the Date
END:VEVENT
END:VCALENDAR